BEGIN:VCALENDAR
VERSION:2.0
PRODID:-//Vermont Family Network - ECPv6.15.18//NONSGML v1.0//EN
CALSCALE:GREGORIAN
METHOD:PUBLISH
X-ORIGINAL-URL:https://www.vermontfamilynetwork.org
X-WR-CALDESC:Events for Vermont Family Network
REFRESH-INTERVAL;VALUE=DURATION:PT1H
X-Robots-Tag:noindex
X-PUBLISHED-TTL:PT1H
BEGIN:VTIMEZONE
TZID:America/New_York
BEGIN:DAYLIGHT
TZOFFSETFROM:-0500
TZOFFSETTO:-0400
TZNAME:EDT
DTSTART:20240310T070000
END:DAYLIGHT
BEGIN:STANDARD
TZOFFSETFROM:-0400
TZOFFSETTO:-0500
TZNAME:EST
DTSTART:20241103T060000
END:STANDARD
BEGIN:DAYLIGHT
TZOFFSETFROM:-0500
TZOFFSETTO:-0400
TZNAME:EDT
DTSTART:20250309T070000
END:DAYLIGHT
BEGIN:STANDARD
TZOFFSETFROM:-0400
TZOFFSETTO:-0500
TZNAME:EST
DTSTART:20251102T060000
END:STANDARD
BEGIN:DAYLIGHT
TZOFFSETFROM:-0500
TZOFFSETTO:-0400
TZNAME:EDT
DTSTART:20260308T070000
END:DAYLIGHT
BEGIN:STANDARD
TZOFFSETFROM:-0400
TZOFFSETTO:-0500
TZNAME:EST
DTSTART:20261101T060000
END:STANDARD
END:VTIMEZONE
BEGIN:VEVENT
DTSTART;TZID=America/New_York:20251002T100000
DTEND;TZID=America/New_York:20251002T110000
DTSTAMP:20260421T141714
CREATED:20250814T142024Z
LAST-MODIFIED:20251002T163216Z
UID:12155-1759399200-1759402800@www.vermontfamilynetwork.org
SUMMARY:Watch: What Does Vermont's Pathways to Partnerships Bring to the Table?
DESCRIPTION:Watch the recording of the “What Does Vermont’s Pathways to Partnerships Bring to the Table?” workshop here.\nThis workshop will introduce what Pathways to Partnership is and what it brings to Vermont families\, students and community partners. Vermont’s Pathways to Partnerships (VT-P2P) project aims to facilitate a smoother transition for young people with disabilities into independent living\, employment\, continued education or training\, and community engagement. This funding presents an exceptional opportunity for Vermont to develop meaningful partnerships and training programs aimed at fostering the post-school success of students with disabilities. \nPresenter: \n\nLiz Perreault\, Vermont Pathways to Partnerships Project Director.\nLiz has over 18 years of combined experience in state government\, education\, and workforce development\, including leadership roles in the Plainfield School District and the Getting Ready to Work Program. As VT-P2P’s leader\, she is dedicated to empowering students with disabilities through strong systems of support\, student leadership\, and successful career and post-secondary pathways.
URL:https://www.vermontfamilynetwork.org/event/register-for-what-does-vermonts-pathways-to-partnerships-bring-to-the-table/
CATEGORIES:Past
ORGANIZER;CN="Vermont Family Network":MAILTO:rachel.boyers@vtfn.org
END:VEVENT
BEGIN:VEVENT
DTSTART;TZID=America/New_York:20251003T080000
DTEND;TZID=America/New_York:20251003T170000
DTSTAMP:20260421T141714
CREATED:20250827T111015Z
LAST-MODIFIED:20250827T111015Z
UID:12180-1759478400-1759510800@www.vermontfamilynetwork.org
SUMMARY:Little Royals Williston Puppet Presentation
DESCRIPTION:Puppet presentations generously sponsored by the VT Department of Mental Health
URL:https://www.vermontfamilynetwork.org/event/little-royals-williston-puppet-presentation/
CATEGORIES:Puppets in Education
END:VEVENT
BEGIN:VEVENT
DTSTART;TZID=America/New_York:20251009T080000
DTEND;TZID=America/New_York:20251009T170000
DTSTAMP:20260421T141714
CREATED:20250827T111107Z
LAST-MODIFIED:20251001T131345Z
UID:12181-1759996800-1760029200@www.vermontfamilynetwork.org
SUMMARY:Bakersfield Elementary Middle School Puppet Presentation
DESCRIPTION:
URL:https://www.vermontfamilynetwork.org/event/bakersfield-elementary-middle-school-puppet-presentation/
CATEGORIES:Puppets in Education
END:VEVENT
BEGIN:VEVENT
DTSTART;TZID=America/New_York:20251016T080000
DTEND;TZID=America/New_York:20251016T170000
DTSTAMP:20260421T141714
CREATED:20251001T131435Z
LAST-MODIFIED:20251001T131435Z
UID:12264-1760601600-1760634000@www.vermontfamilynetwork.org
SUMMARY:Founders Memorial School Puppet Presentation
DESCRIPTION:Puppet presentations generously sponsored by the VT Department of Mental Health
URL:https://www.vermontfamilynetwork.org/event/founders-memorial-school-puppet-presentation/
CATEGORIES:Puppets in Education
END:VEVENT
BEGIN:VEVENT
DTSTART;TZID=America/New_York:20251016T100000
DTEND;TZID=America/New_York:20251016T110000
DTSTAMP:20260421T141714
CREATED:20250902T192101Z
LAST-MODIFIED:20251016T171639Z
UID:12194-1760608800-1760612400@www.vermontfamilynetwork.org
SUMMARY:Watch: Supporting Students in Exploring Dual Enrollment and Early College Opportunities
DESCRIPTION:Watch the recording of the “Supporting Students in Exploring Dual Enrollment and Early College Opportunities” workshop here.\nThis workshop outlines the ways that students can take advantage of statewide Dual Enrollment and Early College Programs. Viewers will learn specifics about both programs and about tools to help students\, counselors\, and families in the decision-making process\, including assessing readiness. \nPresenter: \n\nAmy Dodge\, Post-Secondary Programs Coordinator at the Vermont Agency of Education. Amy works to support school districts and students in exploring and accessing post-secondary pathways\, including dual enrollment and early college opportunities. With a background as a student advisor\, college counselor\, and college instructor\, Amy brings a broad perspective to her work\, having advised students at both the high school and college levels. Her experience in both advising and teaching allows her to help schools and students navigate the transition from high school to higher education with confidence and clarity.
URL:https://www.vermontfamilynetwork.org/event/register-for-supporting-students-in-exploring-dual-enrollment-and-early-college-opportunities/
CATEGORIES:Past
ORGANIZER;CN="Vermont Family Network":MAILTO:rachel.boyers@vtfn.org
END:VEVENT
BEGIN:VEVENT
DTSTART;TZID=America/New_York:20251023T080000
DTEND;TZID=America/New_York:20251023T170000
DTSTAMP:20260421T141714
CREATED:20251001T131605Z
LAST-MODIFIED:20251001T131605Z
UID:12265-1761206400-1761238800@www.vermontfamilynetwork.org
SUMMARY:Irasburg Village School Puppet Presentation
DESCRIPTION:Puppet presentations generously sponsored by the VT Department of Mental Health
URL:https://www.vermontfamilynetwork.org/event/irasburg-village-school-puppet-presentation/
CATEGORIES:Puppets in Education
END:VEVENT
BEGIN:VEVENT
DTSTART;TZID=America/New_York:20251029T080000
DTEND;TZID=America/New_York:20251029T170000
DTSTAMP:20260421T141714
CREATED:20251001T131707Z
LAST-MODIFIED:20251001T131707Z
UID:12266-1761724800-1761757200@www.vermontfamilynetwork.org
SUMMARY:Lyndon Town School
DESCRIPTION:Puppet presentations generously sponsored by the VT Department of Mental Health
URL:https://www.vermontfamilynetwork.org/event/lyndon-town-school/
CATEGORIES:Puppets in Education
END:VEVENT
END:VCALENDAR