BEGIN:VCALENDAR
VERSION:2.0
PRODID:-//Vermont Family Network - ECPv6.15.18//NONSGML v1.0//EN
CALSCALE:GREGORIAN
METHOD:PUBLISH
X-WR-CALNAME:Vermont Family Network
X-ORIGINAL-URL:https://www.vermontfamilynetwork.org
X-WR-CALDESC:Events for Vermont Family Network
REFRESH-INTERVAL;VALUE=DURATION:PT1H
X-Robots-Tag:noindex
X-PUBLISHED-TTL:PT1H
BEGIN:VTIMEZONE
TZID:America/New_York
BEGIN:DAYLIGHT
TZOFFSETFROM:-0500
TZOFFSETTO:-0400
TZNAME:EDT
DTSTART:20220313T070000
END:DAYLIGHT
BEGIN:STANDARD
TZOFFSETFROM:-0400
TZOFFSETTO:-0500
TZNAME:EST
DTSTART:20221106T060000
END:STANDARD
BEGIN:DAYLIGHT
TZOFFSETFROM:-0500
TZOFFSETTO:-0400
TZNAME:EDT
DTSTART:20230312T070000
END:DAYLIGHT
BEGIN:STANDARD
TZOFFSETFROM:-0400
TZOFFSETTO:-0500
TZNAME:EST
DTSTART:20231105T060000
END:STANDARD
BEGIN:DAYLIGHT
TZOFFSETFROM:-0500
TZOFFSETTO:-0400
TZNAME:EDT
DTSTART:20240310T070000
END:DAYLIGHT
BEGIN:STANDARD
TZOFFSETFROM:-0400
TZOFFSETTO:-0500
TZNAME:EST
DTSTART:20241103T060000
END:STANDARD
END:VTIMEZONE
BEGIN:VEVENT
DTSTART;TZID=America/New_York:20230202T080000
DTEND;TZID=America/New_York:20230202T170000
DTSTAMP:20260424T105100
CREATED:20230103T190953Z
LAST-MODIFIED:20230103T192138Z
UID:10675-1675324800-1675357200@www.vermontfamilynetwork.org
SUMMARY:Boght Hills Elementary School Puppet Presentation
DESCRIPTION:Kindness puppet presentations generously sponsored by DeNooyer Chevrolet
URL:https://www.vermontfamilynetwork.org/event/boght-hills-elementary-school-puppet-presentation/
CATEGORIES:Puppets in Education
END:VEVENT
BEGIN:VEVENT
DTSTART;TZID=America/New_York:20230208T100000
DTEND;TZID=America/New_York:20230208T110000
DTSTAMP:20260424T105100
CREATED:20221215T181535Z
LAST-MODIFIED:20230209T203315Z
UID:10657-1675850400-1675854000@www.vermontfamilynetwork.org
SUMMARY:Watch: Services for Children who are Blind or Visually Impaired - What can VABVI provide for My Child?
DESCRIPTION:Watch the recording for “Services for Children who are Blind or Visually Impaired – What can VABVI provide for My Child?” here.\nIn this workshop\, parents and professionals will learn about Vermont Association for the Blind & Visually Impaired (VABVI) services for children ages birth through high school graduation. VABVI staff includes Teachers of the Visually Impaired (TVI)\, Certified Assistive Technology Instructional Specialists (CATIS) for Individuals with Visually Impairments and Certified Orientation and Mobility Specialists (COMS). Learn about the 9 areas of the “Expanded Core Curriculum” specific to students with a visual impairment\, the updated July 2022 VT AOE qualifications for a visual impairment and the variety of assessments\, consultation\, and direct instruction options available through VABVI. \nPresenter: \n\nStephanie Bissonette is the VABVI Director of Children Services\, a licensed Teacher of the Visually Impaired and a Certified Orientation and Mobility Specialist. In addition to overseeing the children services department\, she supervises the 15 TVI’s\, COMS and CATIS for children with visual impairments. She received her undergraduate degree as a TVI from Dominican College and her master’s degree from Boston College as a COMS. She has glaucoma resulting from a childhood accident and has 37 years of experience in the field at VABVI. Stephanie is the Vermont state liaison for the UMass Boston teacher training programs in the field of visual impairments and the Vermont Ex-Officio Trustee for the American Printing House for the Blind.\nTaya Tarr – Vocational Rehabilitation Counselor with the VT Division for the Blind and Visually Impaired
URL:https://www.vermontfamilynetwork.org/event/register-for-services-for-children-who-are-blind-or-visually-impaired-what-can-vabvi-provide-for-my-child/
CATEGORIES:Past
ORGANIZER;CN="Vermont Family Network":MAILTO:rachel.boyers@vtfn.org
END:VEVENT
BEGIN:VEVENT
DTSTART;TZID=America/New_York:20230209T080000
DTEND;TZID=America/New_York:20230209T170000
DTSTAMP:20260424T105100
CREATED:20230103T191528Z
LAST-MODIFIED:20230103T192513Z
UID:10678-1675929600-1675962000@www.vermontfamilynetwork.org
SUMMARY:Johnson Elementary School Puppet Presentation
DESCRIPTION:Kindness & Stress Programs generously funded by the Vermont Children’s Trust Foundation
URL:https://www.vermontfamilynetwork.org/event/johnson-elementary-school-puppet-presentation/
CATEGORIES:Puppets in Education
END:VEVENT
BEGIN:VEVENT
DTSTART;TZID=America/New_York:20230213T080000
DTEND;TZID=America/New_York:20230213T170000
DTSTAMP:20260424T105100
CREATED:20230103T191153Z
LAST-MODIFIED:20230103T191153Z
UID:10676-1676275200-1676307600@www.vermontfamilynetwork.org
SUMMARY:Skano Elementary School Puppet Presentation
DESCRIPTION:Kindness puppet presentations generously sponsored by Mohawk Chevrolet
URL:https://www.vermontfamilynetwork.org/event/skano-elementary-school-puppet-presentation-2/
CATEGORIES:Puppets in Education
END:VEVENT
BEGIN:VEVENT
DTSTART;TZID=America/New_York:20230215T100000
DTEND;TZID=America/New_York:20230215T110000
DTSTAMP:20260424T105100
CREATED:20230130T184654Z
LAST-MODIFIED:20230303T185711Z
UID:10711-1676455200-1676458800@www.vermontfamilynetwork.org
SUMMARY:Watch: HireAbility VT’s Summer Career Exploration Program!
DESCRIPTION:Watch the recording for “HireAbility VT’s Summer Career Exploration Program!” here.\nLearn about this summer program that provides work experience and job readiness skills training to students with disabilities. We will share information about who is involved\, the impact\, and hear directly from a parent and student about their experience with the program. \nPresenters:\nSam Bernstein\, participant in Summer Careers Exploration Program\nTracey Dolan\, Sam’s parent\nTara Howe\, HireAbility Transition Program Manager\nKara Haynes\, HireAbility Transition Program Associate Manager
URL:https://www.vermontfamilynetwork.org/event/register-for-hireability-vts-summer-career-exploration-program/
CATEGORIES:Past
ORGANIZER;CN="Vermont Family Network":MAILTO:rachel.boyers@vtfn.org
END:VEVENT
BEGIN:VEVENT
DTSTART;TZID=America/New_York:20230216T080000
DTEND;TZID=America/New_York:20230216T170000
DTSTAMP:20260424T105100
CREATED:20230103T191416Z
LAST-MODIFIED:20230103T191416Z
UID:10677-1676534400-1676566800@www.vermontfamilynetwork.org
SUMMARY:The Village School of North Bennington Puppet Presentation
DESCRIPTION:Kindness & Stress AND Abuse Awareness generously sponsored by Bennington Chevrolet
URL:https://www.vermontfamilynetwork.org/event/the-village-school-of-north-bennington-puppet-presentation/
CATEGORIES:Puppets in Education
END:VEVENT
BEGIN:VEVENT
DTSTART;TZID=America/New_York:20230221T183000
DTEND;TZID=America/New_York:20230221T200000
DTSTAMP:20260424T105100
CREATED:20230202T221340Z
LAST-MODIFIED:20230223T192358Z
UID:10718-1677004200-1677009600@www.vermontfamilynetwork.org
SUMMARY:VFN: Advocacy and Policy Committee Meeting
DESCRIPTION:Join us for our Advocacy and Policy Committee meeting! You will learn more about what’s happening at the state house and inform how we advocate for change. Your input on these important issues are essential to our success!
URL:https://www.vermontfamilynetwork.org/event/register-for-vfn-advocacy-and-policy-committee-meeting/
CATEGORIES:Past
ORGANIZER;CN="Vermont Family Network":MAILTO:rachel.boyers@vtfn.org
END:VEVENT
BEGIN:VEVENT
DTSTART;TZID=America/New_York:20230223T080000
DTEND;TZID=America/New_York:20230223T170000
DTSTAMP:20260424T105100
CREATED:20230103T192351Z
LAST-MODIFIED:20230103T192522Z
UID:10679-1677139200-1677171600@www.vermontfamilynetwork.org
SUMMARY:Jay/Westfield School Puppet Presentation
DESCRIPTION:Kindness & Stress Programs generously sponsored by National Life Group Foundation
URL:https://www.vermontfamilynetwork.org/event/jay-westfield-school-puppet-presentation/
CATEGORIES:Puppets in Education
END:VEVENT
END:VCALENDAR