BEGIN:VCALENDAR
VERSION:2.0
PRODID:-//Vermont Family Network - ECPv6.15.18//NONSGML v1.0//EN
CALSCALE:GREGORIAN
METHOD:PUBLISH
X-ORIGINAL-URL:https://www.vermontfamilynetwork.org
X-WR-CALDESC:Events for Vermont Family Network
REFRESH-INTERVAL;VALUE=DURATION:PT1H
X-Robots-Tag:noindex
X-PUBLISHED-TTL:PT1H
BEGIN:VTIMEZONE
TZID:America/New_York
BEGIN:DAYLIGHT
TZOFFSETFROM:-0500
TZOFFSETTO:-0400
TZNAME:EDT
DTSTART:20210314T070000
END:DAYLIGHT
BEGIN:STANDARD
TZOFFSETFROM:-0400
TZOFFSETTO:-0500
TZNAME:EST
DTSTART:20211107T060000
END:STANDARD
BEGIN:DAYLIGHT
TZOFFSETFROM:-0500
TZOFFSETTO:-0400
TZNAME:EDT
DTSTART:20220313T070000
END:DAYLIGHT
BEGIN:STANDARD
TZOFFSETFROM:-0400
TZOFFSETTO:-0500
TZNAME:EST
DTSTART:20221106T060000
END:STANDARD
BEGIN:DAYLIGHT
TZOFFSETFROM:-0500
TZOFFSETTO:-0400
TZNAME:EDT
DTSTART:20230312T070000
END:DAYLIGHT
BEGIN:STANDARD
TZOFFSETFROM:-0400
TZOFFSETTO:-0500
TZNAME:EST
DTSTART:20231105T060000
END:STANDARD
END:VTIMEZONE
BEGIN:VEVENT
DTSTART;TZID=America/New_York:20220707T130000
DTEND;TZID=America/New_York:20220707T140000
DTSTAMP:20260420T034740
CREATED:20220601T181924Z
LAST-MODIFIED:20220719T164122Z
UID:10344-1657198800-1657202400@www.vermontfamilynetwork.org
SUMMARY:Watch: VFN Back to School Series: Special Education Rule Changes - What does this Mean for Families?
DESCRIPTION:Watch “Special Education Rule Changes – What does this Mean for Families?” recording here.\nVermont Special Education Rule Changes were scheduled to take effect July 2022. However\, the Vermont Legislature passed Education Bill H.716\, which includes a one-year partial delay of the Special Education Rules. The changes that will take effect this year are the definition of special education services and increased parent voice in the IEP process. The Rule changes involving adverse effect and the addition of functional performance; and the elimination of the discrepancy model will be delayed until July 2023. \nPresenter: \n\nCammie M Naylor (she/her)\, MSW\, Esq. is a Staff Attorney with the Disability Law Project at Vermont Legal Aid\, Inc.  She is a graduate of Clemson University\, the University of Pennsylvania\, and Vermont Law School. As a former children’s therapist\, Cammie has advocated for the needs of children and their families since long before joining Vermont Legal Aid as an attorney in 2017.  She has a deep passion for protecting the rights of children and advocating within spaces where a child’s needs and rights intersect.  Cammie dedicates approximately half her time to advocating for children with disabilities regarding their rights in schools\, and the other half advocating for other individuals with disabilities who are facing legal problems like access to health care or discrimination because of their disabilities.  When not advocating for the rights of individuals with disabilities Cammie is a toddler parent\, avid baker\, leisure reader\, and barre enthusiast.
URL:https://www.vermontfamilynetwork.org/event/register-for-special-education-rule-changes-what-does-this-mean-for-families-2/
CATEGORIES:Past
ORGANIZER;CN="Vermont Family Network":MAILTO:rachel.boyers@vtfn.org
END:VEVENT
BEGIN:VEVENT
DTSTART;TZID=America/New_York:20220719T180000
DTEND;TZID=America/New_York:20220719T193000
DTSTAMP:20260420T034740
CREATED:20220610T170026Z
LAST-MODIFIED:20220815T172812Z
UID:10363-1658253600-1658259000@www.vermontfamilynetwork.org
SUMMARY:Apply for: July Support Parent Training
DESCRIPTION:Support Parent Training – Part 1 of 2\nVermont Family Network (VFN) is seeking Support Parent volunteers! If you are at a point in your parenting journey where you are ready to support another family\, please consider becoming a trained VFN Support Parent with our Parent Matching Program. This three-hour\, interactive Zoom training will give you the skills\, knowledge\, and confidence you need to support other parents\, all from the comfort of your own home! \nThe next training opportunity will be held virtually in two parts: Tuesday\, July 19 and Tuesday\, July 26\, from 6 to 7:30 p.m. each night. Interested parents should fill out this Survey Monkey application. \nAfter we receive your application\, Mindy will reach out with Zoom registration details. Please email mindy.deibler@vtfn.org with any questions. Hope to see you (virtually) there!
URL:https://www.vermontfamilynetwork.org/event/apply-for-support-parent-training/
CATEGORIES:Past
ORGANIZER;CN="Vermont Family Network":MAILTO:rachel.boyers@vtfn.org
END:VEVENT
BEGIN:VEVENT
DTSTART;TZID=America/New_York:20220726T130000
DTEND;TZID=America/New_York:20220726T140000
DTSTAMP:20260420T034740
CREATED:20220701T195905Z
LAST-MODIFIED:20220815T173527Z
UID:10384-1658840400-1658844000@www.vermontfamilynetwork.org
SUMMARY:Watch: Navigating Demand Avoidance: Threat\, Safety & Foot on the Gas
DESCRIPTION:Watch the recording of “Navigating Demand Avoidance: Threat\, Safety & Foot on the Gas” here.\nBrains need to feel safe in order to engage\, pay attention\, and learn. The problem is that many brains do not feel safe. In this session\, we will describe the brain science of neuroception (threat detection) and discuss everyday examples of the challenges that many children’s limbic systems experience as threats. We will share strategies to optimize our children’s autonomy and minimize conflicts at home and school. \nBy the end of this presentation\, participants will be able to: \n\nDescribe the brain science of demand avoidance\, as viewed through the lens of neuroception.\nList examples of fluctuating external and internal demands impacting many kids at home and school.\nList concrete strategies for creating a supportive environment for kids with hypersensitive neuroception.\n\nPresenters: Melissa Houser\, MD and Casey Ehrlich\, PhD \n\nDr. Mel Houser is a board-certified family physician with a clinical focus on providing primary care for neurodivergent patients across the lifespan. She is the Founder and Executive Director of All Brains Belong VT\, a nonprofit 501(c)(3) organization in Montpelier\, Vermont that uses universal design principles to provide healthcare\, social connection programs\, and neurodiversity-related education for kids and adults.\nDr. Casey Ehrlich is a coach to parents raising PDA Autistic children and is the co-founder of the PDA Parents community and podcast. Her background is in social science and methodology and she holds a doctorate degree from University of Wisconsin-Madison. Casey has conducted original research on conflict\, peace\, and non-violence in areas impacted by civil war in Colombia\, and she brings those insights to her work with families raising children with hyper-sensitive nervous systems\, fight\,flight\, and freeze behaviors\, and trauma. Her coaching practice is At Peace Parents\, LLC.
URL:https://www.vermontfamilynetwork.org/event/navigating-demand-avoidance-threat-safety-foot-on-the-gas/
LOCATION:Virtual Zoom Event
CATEGORIES:Past
ORGANIZER;CN="Vermont Family Network":MAILTO:rachel.boyers@vtfn.org
END:VEVENT
BEGIN:VEVENT
DTSTART;TZID=America/New_York:20220726T180000
DTEND;TZID=America/New_York:20220726T193000
DTSTAMP:20260420T034740
CREATED:20220610T170249Z
LAST-MODIFIED:20220815T172947Z
UID:10364-1658858400-1658863800@www.vermontfamilynetwork.org
SUMMARY:July Support Parent Training - Part 2 of 2
DESCRIPTION:Support Parent Training – Part 2 of 2\nVermont Family Network (VFN) is seeking Support Parent volunteers! If you are at a point in your parenting journey where you are ready to support another family\, please consider becoming a trained VFN Support Parent with our Parent Matching Program. This three-hour\, interactive Zoom training will give you the skills\, knowledge\, and confidence you need to support other parents\, all from the comfort of your own home! \nThe next training opportunity will be held virtually in two parts: Tuesday\, July 19 and Tuesday\, July 26\, from 6 to 7:30 p.m. each night. Interested parents should fill out this Survey Monkey application. \nAfter we receive your application\, Mindy will reach out with Zoom registration details. Please email mindy.deibler@vtfn.org with any questions. Hope to see you (virtually) there!
URL:https://www.vermontfamilynetwork.org/event/july-support-parent-training/
CATEGORIES:Past
ORGANIZER;CN="Vermont Family Network":MAILTO:rachel.boyers@vtfn.org
END:VEVENT
BEGIN:VEVENT
DTSTART;TZID=America/New_York:20220730T100000
DTEND;TZID=America/New_York:20220731T170000
DTSTAMP:20260420T034740
CREATED:20220518T180247Z
LAST-MODIFIED:20220819T142638Z
UID:10324-1659175200-1659286800@www.vermontfamilynetwork.org
SUMMARY:SDM Strong! A Supported Decision-Making Training
DESCRIPTION:The application deadline for this event has passed.\nSDM Strong! Supported Decision Making and Alternatives to Guardianship\nSupported decision-making (SDM) is an important opportunity to empower youth with disabilities so that they continue to grow and learn into adulthood. SDM allows supporters to stay involved in the adult child’s life and provides young adults with a circle of support\, resources\, tools and ongoing encouragement and guidance to help prepare for becoming an adult. For more information\, please check out this flyer. \nSDM Strong! is supported and funded by the VT Developmental Disabilities Council in collaboration with Green Mountain Self-Advocates\, Disability Law Project & Vermont Family Network
URL:https://www.vermontfamilynetwork.org/event/sdm-strong-a-supported-decision-making-training/
LOCATION:Castleton Unversity
CATEGORIES:Past
ORGANIZER;CN="Vermont Family Network":MAILTO:rachel.boyers@vtfn.org
END:VEVENT
END:VCALENDAR