BEGIN:VCALENDAR
VERSION:2.0
PRODID:-//Vermont Family Network - ECPv6.15.18//NONSGML v1.0//EN
CALSCALE:GREGORIAN
METHOD:PUBLISH
X-WR-CALNAME:Vermont Family Network
X-ORIGINAL-URL:https://www.vermontfamilynetwork.org
X-WR-CALDESC:Events for Vermont Family Network
REFRESH-INTERVAL;VALUE=DURATION:PT1H
X-Robots-Tag:noindex
X-PUBLISHED-TTL:PT1H
BEGIN:VTIMEZONE
TZID:America/New_York
BEGIN:DAYLIGHT
TZOFFSETFROM:-0500
TZOFFSETTO:-0400
TZNAME:EDT
DTSTART:20210314T070000
END:DAYLIGHT
BEGIN:STANDARD
TZOFFSETFROM:-0400
TZOFFSETTO:-0500
TZNAME:EST
DTSTART:20211107T060000
END:STANDARD
BEGIN:DAYLIGHT
TZOFFSETFROM:-0500
TZOFFSETTO:-0400
TZNAME:EDT
DTSTART:20220313T070000
END:DAYLIGHT
BEGIN:STANDARD
TZOFFSETFROM:-0400
TZOFFSETTO:-0500
TZNAME:EST
DTSTART:20221106T060000
END:STANDARD
BEGIN:DAYLIGHT
TZOFFSETFROM:-0500
TZOFFSETTO:-0400
TZNAME:EDT
DTSTART:20230312T070000
END:DAYLIGHT
BEGIN:STANDARD
TZOFFSETFROM:-0400
TZOFFSETTO:-0500
TZNAME:EST
DTSTART:20231105T060000
END:STANDARD
END:VTIMEZONE
BEGIN:VEVENT
DTSTART;TZID=America/New_York:20220601T080000
DTEND;TZID=America/New_York:20220601T170000
DTSTAMP:20260420T020609
CREATED:20220308T223448Z
LAST-MODIFIED:20220308T223448Z
UID:10204-1654070400-1654102800@www.vermontfamilynetwork.org
SUMMARY:Okte Elementary School Puppet Presentation
DESCRIPTION:Anxiety/Worry & Kindness/Stress virtual presentations generously sponsored by Upstate Chevrolet Dealers
URL:https://www.vermontfamilynetwork.org/event/okte-elementary-school-puppet-presentation/
CATEGORIES:Puppets in Education
END:VEVENT
BEGIN:VEVENT
DTSTART;TZID=America/New_York:20220603T190000
DTEND;TZID=America/New_York:20220603T210000
DTSTAMP:20260420T020609
CREATED:20220121T185303Z
LAST-MODIFIED:20220606T192510Z
UID:10116-1654282800-1654290000@www.vermontfamilynetwork.org
SUMMARY:Voices of Our Network - Storytelling Event
DESCRIPTION:Vermont Family Network and Main Street Landing present Voices of Our Network\, a live storytelling event on Friday\, June 3rd\, 2022\, in-person* at the Film House at Main Street Landing Performing Arts Center and available to watch via livestream. Please join us for this evening of powerful true stories told by families and self-advocates in our community. Live music will accompany this diverse group of storytellers as they share their experiences of disability\, parenting\, and more! \n\nIf you are unable to attend in-person\, please register and we’ll send you a link so you can view the livestream at the time of the event. The link will be emailed the day before the event.\n\nThis event is presented by Vermont Family Network and Susanne Schmidt with funding from the VT Arts Council.\nMany thanks to our sponsors: Main Street Landing Performing Arts Center and CCTV Center for Media & Democracy. \nThere are parking lots and on-street parking near the venue where you can pay with cash\, credit card or the ParkMobile app.\n\nPlease note that the content and stories in this performance are intended for adult audiences. \n*To protect our most vulnerable families\, participants must show proof of being fully vaccinated or a current negative COVID test result as they enter the event. Indoor masking will be required. We will update our recommendations as needed to ensure utmost safety and comfort for all participants. Please check our website frequently for any changes or updates to these requirements.
URL:https://www.vermontfamilynetwork.org/event/vfn-live-storytelling-event-save-the-date/
LOCATION:Film House at Main Street Landing Performing Arts Center\, 60 Lake Street\, Burlington\, VT\, 05401\, United States
CATEGORIES:Past
ORGANIZER;CN="Vermont Family Network":MAILTO:rachel.boyers@vtfn.org
END:VEVENT
BEGIN:VEVENT
DTSTART;TZID=America/New_York:20220604T120000
DTEND;TZID=America/New_York:20220604T140000
DTSTAMP:20260420T020609
CREATED:20220105T181812Z
LAST-MODIFIED:20220815T172836Z
UID:10072-1654344000-1654351200@www.vermontfamilynetwork.org
SUMMARY:June Sibshop - Family Picnic
DESCRIPTION:An end–of–year picnic celebration for the whole family! Parents andsiblings\, please join us for a chance to connect\, share some slices ofpizza\, and play games. The theme of this Sibshop is Celebration. What doyou have to celebrate this year? How do you like to celebrate? \nLocation: Oakledge Park\, Burlington\, Vermont (fully accessible). Note that parking is$2/hour; please let us know if this is a hardship. \nFor more information and to register\, visit the Sibshops section on our website. Email mindy.deibler@vtfn.org with questions.
URL:https://www.vermontfamilynetwork.org/event/june-sibshop-family-picnic/
CATEGORIES:Past
ORGANIZER;CN="Vermont Family Network":MAILTO:rachel.boyers@vtfn.org
END:VEVENT
BEGIN:VEVENT
DTSTART;TZID=America/New_York:20220607T080000
DTEND;TZID=America/New_York:20220607T170000
DTSTAMP:20260420T020609
CREATED:20211011T153206Z
LAST-MODIFIED:20220419T190013Z
UID:9892-1654588800-1654621200@www.vermontfamilynetwork.org
SUMMARY:Barnard Academy Puppet Presentation
DESCRIPTION:Generously Sponsored by National Life Group Foundation
URL:https://www.vermontfamilynetwork.org/event/barnard-academy-puppet-presentation/
CATEGORIES:Puppets in Education
END:VEVENT
BEGIN:VEVENT
DTSTART;TZID=America/New_York:20220608T100000
DTEND;TZID=America/New_York:20220608T110000
DTSTAMP:20260420T020609
CREATED:20220505T194147Z
LAST-MODIFIED:20220616T164105Z
UID:10311-1654682400-1654686000@www.vermontfamilynetwork.org
SUMMARY:Watch: Vermont Career Advancement Project
DESCRIPTION:Watch the Vermont Career Advancement Project recording here.\nJoin us to learn about how HireAbility’s new Vermont Career Advancement Project (VCAP) creates quality career pathways for Vermonters. Youth and adults with disabilities in Vermont are greatly underrepresented in ‘earn & learn’ programs that lead to high wage\, high quality career paths. VCAP provides an exciting new 5-year investment in changing that paradigm. Learn about how this effort will be implemented across the state\, incorporating a range of access points or on-ramps to progressive education options including paid credentialed training\, post-secondary courses and programs\, internships and apprenticeships. \nPresenter:\n– Rich Tulikangas\, Career Advancement Director at HireAbility Vermont
URL:https://www.vermontfamilynetwork.org/event/register-for-vermont-career-advancement-project/
CATEGORIES:Past
ORGANIZER;CN="Vermont Family Network":MAILTO:rachel.boyers@vtfn.org
END:VEVENT
END:VCALENDAR