BEGIN:VCALENDAR
VERSION:2.0
PRODID:-//Vermont Family Network - ECPv6.15.18//NONSGML v1.0//EN
CALSCALE:GREGORIAN
METHOD:PUBLISH
X-ORIGINAL-URL:https://www.vermontfamilynetwork.org
X-WR-CALDESC:Events for Vermont Family Network
REFRESH-INTERVAL;VALUE=DURATION:PT1H
X-Robots-Tag:noindex
X-PUBLISHED-TTL:PT1H
BEGIN:VTIMEZONE
TZID:America/New_York
BEGIN:DAYLIGHT
TZOFFSETFROM:-0500
TZOFFSETTO:-0400
TZNAME:EDT
DTSTART:20200308T070000
END:DAYLIGHT
BEGIN:STANDARD
TZOFFSETFROM:-0400
TZOFFSETTO:-0500
TZNAME:EST
DTSTART:20201101T060000
END:STANDARD
BEGIN:DAYLIGHT
TZOFFSETFROM:-0500
TZOFFSETTO:-0400
TZNAME:EDT
DTSTART:20210314T070000
END:DAYLIGHT
BEGIN:STANDARD
TZOFFSETFROM:-0400
TZOFFSETTO:-0500
TZNAME:EST
DTSTART:20211107T060000
END:STANDARD
BEGIN:DAYLIGHT
TZOFFSETFROM:-0500
TZOFFSETTO:-0400
TZNAME:EDT
DTSTART:20220313T070000
END:DAYLIGHT
BEGIN:STANDARD
TZOFFSETFROM:-0400
TZOFFSETTO:-0500
TZNAME:EST
DTSTART:20221106T060000
END:STANDARD
END:VTIMEZONE
BEGIN:VEVENT
DTSTART;TZID=America/New_York:20211102T080000
DTEND;TZID=America/New_York:20211102T170000
DTSTAMP:20260423T034452
CREATED:20211011T153005Z
LAST-MODIFIED:20211123T203228Z
UID:9891-1635840000-1635872400@www.vermontfamilynetwork.org
SUMMARY:Proctor Elementary School Puppet Presentation
DESCRIPTION:Generously sponsored by the VT Department of Mental Health\n8:45 Worry/Anxiety Puppet Program for Grades 3-4\n9:45 Worry/Anxiety Puppet Program for Grade 1\n10:45 Worry/Anxiety Puppet Program for Grade 3\n11:45 Worry/Anxiety Puppet Program for Grade K\n1:10 Worry/Anxiety Puppet Program for Grade 2
URL:https://www.vermontfamilynetwork.org/event/proctor-elementary-school/
CATEGORIES:Puppets in Education
END:VEVENT
BEGIN:VEVENT
DTSTART;TZID=America/New_York:20211103T130000
DTEND;TZID=America/New_York:20211103T140000
DTSTAMP:20260423T034452
CREATED:20211006T171635Z
LAST-MODIFIED:20211104T205439Z
UID:9863-1635944400-1635948000@www.vermontfamilynetwork.org
SUMMARY:Watch: How Families and Providers Can Access Resources Through VT 211 and Help Me Grow VT
DESCRIPTION:Watch How Families and Providers Can Access Resources Through VT 211 and Help Me Grow VT recording here. (link to recording coming soon)\nIf you are unable to attend\, please register anyway. We’ll send you a recording of the workshop which you can watch on your own time.\nStaff from VT 211 and Help Me Grow VT will discuss the services each program provides\, how their partnership works\, and how families and service providers can access both programs directly for support and resources. Staff will also demonstrate how to use the VT 211 online community resource directory. \nPresenters:\n– Margaret Armstrong\, 211 Contact Center Manager\n– Elizabeth Gilman\, Help Me Grow Program Manager
URL:https://www.vermontfamilynetwork.org/event/register-for-how-families-and-providers-can-access-resources-through-vt-211-and-help-me-grow-vt/
CATEGORIES:Past
ORGANIZER;CN="Vermont Family Network":MAILTO:rachel.boyers@vtfn.org
END:VEVENT
BEGIN:VEVENT
DTSTART;TZID=America/New_York:20211109T120000
DTEND;TZID=America/New_York:20211109T123000
DTSTAMP:20260423T034452
CREATED:20211011T165716Z
LAST-MODIFIED:20220815T175620Z
UID:9897-1636459200-1636461000@www.vermontfamilynetwork.org
SUMMARY:All in! Strong Families\, Strong Futures Virtual Fundraising Event
DESCRIPTION:“Register for: All in! Strong Families\, Strong Futures Virtual Fundraising Event” \nhttps://us02web.zoom.us/meeting/register/tZYudemqqjgvGtT2N1f_vl_ykrjVjPFa_vCB
URL:https://www.vermontfamilynetwork.org/event/register-for-all-in-strong-families-strong-futures-virtual-fundraising-event/
LOCATION:Virtual Zoom Event
CATEGORIES:Past
ORGANIZER;CN="Vermont Family Network":MAILTO:rachel.boyers@vtfn.org
END:VEVENT
BEGIN:VEVENT
DTSTART;TZID=America/New_York:20211110T130000
DTEND;TZID=America/New_York:20211110T140000
DTSTAMP:20260423T034452
CREATED:20211015T173042Z
LAST-MODIFIED:20220815T175529Z
UID:9910-1636549200-1636552800@www.vermontfamilynetwork.org
SUMMARY:Watch: Special Education Rule Changes – What Does This Mean For Families?
DESCRIPTION:Watch “Special Education Rule Changes – What Does This Mean For Families?” recording here.\nVermont Special Education Rules will take effect in July 2022. Among the changes are the definition of special education services and adverse effect\, the addition of functional performance\, increased parent voice and the elimination of the discrepancy model. Learn what this mean for your child’s IEP. \nPresenters:\n– Marilyn Mahusky\, Staff Attorney with Vermont Legal Aid’s Disability Law Project. She has a long career representing people with disabilities in a variety of legal settings including in special education. Ms. Mahusky was appointed to the Census-Based Funding Advisory Group where she served as Co-Chair. She testified before the Vermont Legislature prior to passage of Act 173 and was instrumental in securing major changes to Vermont’s Special Education Rules which will have a  positive impact on Vermont’s students with disabilities. \n– Karen Price\, Co-Director of Family Support\, Vermont Family Network
URL:https://www.vermontfamilynetwork.org/event/register-for-special-education-rule-changes-what-does-this-mean-for-families/
CATEGORIES:Past
ORGANIZER;CN="Vermont Family Network":MAILTO:rachel.boyers@vtfn.org
END:VEVENT
END:VCALENDAR