BEGIN:VCALENDAR
VERSION:2.0
PRODID:-//Vermont Family Network - ECPv6.15.18//NONSGML v1.0//EN
CALSCALE:GREGORIAN
METHOD:PUBLISH
X-ORIGINAL-URL:https://www.vermontfamilynetwork.org
X-WR-CALDESC:Events for Vermont Family Network
REFRESH-INTERVAL;VALUE=DURATION:PT1H
X-Robots-Tag:noindex
X-PUBLISHED-TTL:PT1H
BEGIN:VTIMEZONE
TZID:America/New_York
BEGIN:DAYLIGHT
TZOFFSETFROM:-0500
TZOFFSETTO:-0400
TZNAME:EDT
DTSTART:20200308T070000
END:DAYLIGHT
BEGIN:STANDARD
TZOFFSETFROM:-0400
TZOFFSETTO:-0500
TZNAME:EST
DTSTART:20201101T060000
END:STANDARD
BEGIN:DAYLIGHT
TZOFFSETFROM:-0500
TZOFFSETTO:-0400
TZNAME:EDT
DTSTART:20210314T070000
END:DAYLIGHT
BEGIN:STANDARD
TZOFFSETFROM:-0400
TZOFFSETTO:-0500
TZNAME:EST
DTSTART:20211107T060000
END:STANDARD
BEGIN:DAYLIGHT
TZOFFSETFROM:-0500
TZOFFSETTO:-0400
TZNAME:EDT
DTSTART:20220313T070000
END:DAYLIGHT
BEGIN:STANDARD
TZOFFSETFROM:-0400
TZOFFSETTO:-0500
TZNAME:EST
DTSTART:20221106T060000
END:STANDARD
END:VTIMEZONE
BEGIN:VEVENT
DTSTART;TZID=America/New_York:20210601T180000
DTEND;TZID=America/New_York:20210601T200000
DTSTAMP:20260425T211310
CREATED:20210507T164138Z
LAST-MODIFIED:20210720T194555Z
UID:9604-1622570400-1622577600@www.vermontfamilynetwork.org
SUMMARY:Storytelling Workshop for Family Faculty
DESCRIPTION:If you are a member of VFN’s Family Faculty and have taken the first Storytelling Open Workshop training on May 25th\, we invite you to dive deeper into storytelling with a 2-hour follow-up workshop exclusively for VFN’s Family Faculty with Susanne Schmidt. Together we’ll consider the tenets of family-centered care and explore how to supercharge our true stories for most impact! Participants will have access to coaching and guidance as they craft or tweak their family stories to share with health and education students and professionals. Join this safe space as we connect through storytelling! If you have questions or are interested in joining FamilyFaculty contact jenny.norris@vtfn.org. \nPresenter:\n– Susanne Schmidt\, MS\, LCMHC is a standup comedian\, master storyteller and national speaker \nRegister here. (Family Faculty only please). \n 
URL:https://www.vermontfamilynetwork.org/event/storytelling-workshop-for-family-faculty/
CATEGORIES:Past
ORGANIZER;CN="Vermont Family Network":MAILTO:rachel.boyers@vtfn.org
END:VEVENT
BEGIN:VEVENT
DTSTART;TZID=America/New_York:20210602T100000
DTEND;TZID=America/New_York:20210602T110000
DTSTAMP:20260425T211310
CREATED:20210507T164750Z
LAST-MODIFIED:20210818T181534Z
UID:9605-1622628000-1622631600@www.vermontfamilynetwork.org
SUMMARY:Watch: Children's Personal Care Services Workshop
DESCRIPTION:Watch the Children’s Personal Cares Services workshop video here. \nAdam Poulin\, Program Administrator for Children With Special Health Needs with the Vermont Department of Health\, provides an overview of Children’s Personal Care Services (CPCS) in Vermont. Participants will learn about how eligibility is determined\, what the process is for applying\, the mechanics of self-direction\, and what information you should have at the ready when completing the application. \nPresenter:\n– Adam Poulin\, M.Ed.\, Program Administrator with Children with Special Health Needs\, VT Department of Health \n 
URL:https://www.vermontfamilynetwork.org/event/childrens-personal-care-services-workshop/
CATEGORIES:Past
ORGANIZER;CN="Vermont Family Network":MAILTO:rachel.boyers@vtfn.org
END:VEVENT
BEGIN:VEVENT
DTSTART;TZID=America/New_York:20210617T110000
DTEND;TZID=America/New_York:20210617T120000
DTSTAMP:20260425T211310
CREATED:20210525T202342Z
LAST-MODIFIED:20220815T175723Z
UID:9629-1623927600-1623931200@www.vermontfamilynetwork.org
SUMMARY:Watch: Home Schooling and Special Education: Supporting your Child
DESCRIPTION:Watch the Home Schooling and Special Education: Supporting Your Child workshop video here.\nAre you homeschooling a child who is eligible for special education? Come learn about how to engage with your school district to ensure you have the information and resources you need to successfully work with your child and access available services. Erin Maguire\, Director of Equity & Inclusion for the Essex Westford School District will present on parental rights as well as tips and tools for collaborating with school districts when you are homeschooling a child with a disability. She will also share a series of resources for parents who are looking to develop a comprehensive experience at home for your child. \nPresenter:\n– Erin McGuire\, Director of Equity & Inclusion and Co-Director of Student Support Services at the Essex Westford School District
URL:https://www.vermontfamilynetwork.org/event/home-schooling-and-special-education-supporting-your-child/
CATEGORIES:Past
ORGANIZER;CN="Vermont Family Network":MAILTO:rachel.boyers@vtfn.org
END:VEVENT
BEGIN:VEVENT
DTSTART;TZID=America/New_York:20210629T190000
DTEND;TZID=America/New_York:20210629T200000
DTSTAMP:20260425T211310
CREATED:20210617T190043Z
LAST-MODIFIED:20220815T175716Z
UID:9667-1624993200-1624996800@www.vermontfamilynetwork.org
SUMMARY:Watch: Pediatric Perspectives - A Community Conversation on COVID-19 Vaccine and Children with Disabilities/Special Health Needs
DESCRIPTION:Watch the Pediatric Perspectives: A Community Conversation on COVID-19 Vaccine and Children with Disabilities/Special Health Needs recording here.\nDo you have questions about getting the COVID-19 vaccine for your child? Whether you have a 12+ year-old who is eligible now to receive the vaccine or you are anticipating a vaccine for children under the age of 12 years this fall\, you may have concerns or questions about the vaccine and your child’s disability or health condition. Please join us for an opportunity to have two of Vermont’s most trusted children’s health experts\, Dr. Jill Rinehart and Dr. Rebecca Bell\, answer your questions and address any hesitancies you may have around getting your child vaccinated. This discussion will be moderated by Stephanie Winters\, Executive Director of VT’s American Academy of Pediatrics Chapter. \nPresenters: \n\nJill Rinehart\, MD\, pediatric primary care physician and director of the Pediatric Residency Program at the UVM Larner School of Medicine\nRebecca Bell\, MD\, pediatric critical care physician at the UVM Medical Center and President of VT’s American Academy of Pediatrics Chapter\n\nModerator: \n\nStephanie Winters\, Executive Director of VT’s American Academy of Pediatrics Chapter
URL:https://www.vermontfamilynetwork.org/event/pediatricians-and-the-pandemic-a-community-conversation-on-covid-19-vaccine-and-children-with-disabilities-special-health-needs/
CATEGORIES:Past
ORGANIZER;CN="Vermont Family Network":MAILTO:rachel.boyers@vtfn.org
END:VEVENT
END:VCALENDAR