BEGIN:VCALENDAR
VERSION:2.0
PRODID:-//Vermont Family Network - ECPv6.15.18//NONSGML v1.0//EN
CALSCALE:GREGORIAN
METHOD:PUBLISH
X-WR-CALNAME:Vermont Family Network
X-ORIGINAL-URL:https://www.vermontfamilynetwork.org
X-WR-CALDESC:Events for Vermont Family Network
REFRESH-INTERVAL;VALUE=DURATION:PT1H
X-Robots-Tag:noindex
X-PUBLISHED-TTL:PT1H
BEGIN:VTIMEZONE
TZID:America/New_York
BEGIN:DAYLIGHT
TZOFFSETFROM:-0500
TZOFFSETTO:-0400
TZNAME:EDT
DTSTART:20180311T070000
END:DAYLIGHT
BEGIN:STANDARD
TZOFFSETFROM:-0400
TZOFFSETTO:-0500
TZNAME:EST
DTSTART:20181104T060000
END:STANDARD
BEGIN:DAYLIGHT
TZOFFSETFROM:-0500
TZOFFSETTO:-0400
TZNAME:EDT
DTSTART:20190310T070000
END:DAYLIGHT
BEGIN:STANDARD
TZOFFSETFROM:-0400
TZOFFSETTO:-0500
TZNAME:EST
DTSTART:20191103T060000
END:STANDARD
BEGIN:DAYLIGHT
TZOFFSETFROM:-0500
TZOFFSETTO:-0400
TZNAME:EDT
DTSTART:20200308T070000
END:DAYLIGHT
BEGIN:STANDARD
TZOFFSETFROM:-0400
TZOFFSETTO:-0500
TZNAME:EST
DTSTART:20201101T060000
END:STANDARD
END:VTIMEZONE
BEGIN:VEVENT
DTSTART;VALUE=DATE:20191001
DTEND;VALUE=DATE:20191002
DTSTAMP:20260423T160825
CREATED:20190812T193158Z
LAST-MODIFIED:20191103T180842Z
UID:8114-1569888000-1569974399@www.vermontfamilynetwork.org
SUMMARY:Eden Central School puppet presentation
DESCRIPTION:8:10-9:10 Tobacco Prevention and Bullying Prevention for Grades K-2\n9:20-10:20 Tobacco Prevention and Bullying Prevention for Grades 3/4\n10:30-11:30 Bullying Prevention Workshop for Grades 5/6
URL:https://www.vermontfamilynetwork.org/event/available-for-shows-2/
CATEGORIES:Puppets in Education
END:VEVENT
BEGIN:VEVENT
DTSTART;VALUE=DATE:20191010
DTEND;VALUE=DATE:20191011
DTSTAMP:20260423T160825
CREATED:20190812T193159Z
LAST-MODIFIED:20191103T180450Z
UID:8117-1570665600-1570751999@www.vermontfamilynetwork.org
SUMMARY:Windsor Elementary School puppet presentation
DESCRIPTION:Sponsored by the Vermont Department of Mental Health \n9:00-10:00 Bullying Prevention Workshop for Grades 5/6\n10:05-11:05 Bullying Prevention and Feelings for Grade 1\n11:00-12:00 Cultural Diversity and Bullying Prevention for Grades 3/4\n12:30-1:00 Feelings for Grade K\n1:30-2:30 Bullying Prevention and Feelings for Grade 2
URL:https://www.vermontfamilynetwork.org/event/available-for-shows-5/
CATEGORIES:Puppets in Education
END:VEVENT
BEGIN:VEVENT
DTSTART;TZID=America/New_York:20191010T130000
DTEND;TZID=America/New_York:20191010T150000
DTSTAMP:20260423T160825
CREATED:20190712T153100Z
LAST-MODIFIED:20220815T180245Z
UID:7956-1570712400-1570719600@www.vermontfamilynetwork.org
SUMMARY:Advocating for Your Child Workshop
DESCRIPTION:Free Workshop!   Advocating for Your Child \nThursday\, October 10 from 1 pm – 3 pm \n\nLearn how to be a better advocate for your child\nTips for getting organized using a Vermont Family Network (VFN) Care Notebook\nMeet other parents and share ideas\nResources ~ Snacks ~ Door Prizes\n\nLocation:   Northeast Kingdom Community Action\, 115 Lincoln Street\, St. Johnsbury \nRSVP:   Bobbie Lepine\, NEKCA\, blepine@nekcavt.org /(802) 748-6040 or Lori Gilbar\, VFN Family Support Consultant Lori.Gilbar@vtfn.org / (802) 766-2384
URL:https://www.vermontfamilynetwork.org/event/advocating-for-your-child-workshop/
LOCATION:VT
CATEGORIES:Past
ORGANIZER;CN="Vermont Family Network":MAILTO:rachel.boyers@vtfn.org
END:VEVENT
BEGIN:VEVENT
DTSTART;TZID=America/New_York:20191012T130000
DTEND;TZID=America/New_York:20191012T153000
DTSTAMP:20260423T160825
CREATED:20190809T171920Z
LAST-MODIFIED:20190809T172449Z
UID:8096-1570885200-1570894200@www.vermontfamilynetwork.org
SUMMARY:Sibshop - Colchester
DESCRIPTION:October 12 – Sam Mazza’s Corn Maze in Colchester from 1-3:30 pm \nCome join us at Sam Mazza’s Corn Maze! We will be celebrating the fall with treats and games. The theme of this shop is skillfulness. Can you predict how you will handle the maze? What might be challenging? What’s a breeze? You may have to think again and use a skill when you get lost. \nFor questions or to RSVP\, please contact Jamie Rainville or call (802) 876-5315 x243.
URL:https://www.vermontfamilynetwork.org/event/sibshop-colchester/
END:VEVENT
BEGIN:VEVENT
DTSTART;VALUE=DATE:20191016
DTEND;VALUE=DATE:20191017
DTSTAMP:20260423T160825
CREATED:20190812T193159Z
LAST-MODIFIED:20191103T180219Z
UID:8118-1571184000-1571270399@www.vermontfamilynetwork.org
SUMMARY:Randolph Elementary School puppet presentation
DESCRIPTION:Sponsored by the Gibney Family Foundation \n8:30-9:00 Blindness and Visual Impairment for Grade PreK\n9:20-10:10 Feelings and Bullying Prevention for Grade 1\n10:25-11:15 Feelings and Bullying Prevention for Grade 2\n12:30-1:00 Blindness and Visual Impairment for Grade PreK\n1:15-1:30 Feelings for Grade K
URL:https://www.vermontfamilynetwork.org/event/available-for-shows-6/
CATEGORIES:Puppets in Education
END:VEVENT
BEGIN:VEVENT
DTSTART;VALUE=DATE:20191022
DTEND;VALUE=DATE:20191023
DTSTAMP:20260423T160825
CREATED:20190812T193159Z
LAST-MODIFIED:20191103T175940Z
UID:8119-1571702400-1571788799@www.vermontfamilynetwork.org
SUMMARY:Enosburg Elementary School puppet presentation
DESCRIPTION:Generously Sponsored by 100 Women Who Care of Franklin County \n8:30-9:30 Cultural Diversity and Bully Prevention for Grade 3\n9:40-10:10 Friendship for Grade K\n10:50-11:50 Bullying Prevention Workshop for Grade 4/5\n12:20-1:20 Friendship and Feelings for Grade 1\n1:30-2:30 Feelings and Bullying Prevention for Grade 2
URL:https://www.vermontfamilynetwork.org/event/available-for-shows-7/
CATEGORIES:Puppets in Education
END:VEVENT
BEGIN:VEVENT
DTSTART;TZID=America/New_York:20191023T120000
DTEND;TZID=America/New_York:20191023T130000
DTSTAMP:20260423T160825
CREATED:20190905T182232Z
LAST-MODIFIED:20191021T170725Z
UID:8200-1571832000-1571835600@www.vermontfamilynetwork.org
SUMMARY:Webinar: Assistive Technology and Employment of Youth with Disabilities
DESCRIPTION:This webinar will introduce participants to Assistive Technology as it relates to youth employment for transition-age youth with disabilities. The presenters will discuss the various tools to assist with finding\, keeping\, and being successful in a job/volunteer position as well as tools available for youth seeking training programs or post-secondary opportunities. Community resource information will also be included. Presenters: Laurie Cook and Rachel Knapp\, Assistive Technology Specialists for VocRehab Vermont\, Linking Learning to Careers. We save all of our webinar recordings on our website and YouTube channel. Register Now: https://attendee.gotowebinar.com/register/5926639655122286092
URL:https://www.vermontfamilynetwork.org/event/assistive-technology-and-youth-employment/
END:VEVENT
BEGIN:VEVENT
DTSTART;VALUE=DATE:20191029
DTEND;VALUE=DATE:20191030
DTSTAMP:20260423T160825
CREATED:20190812T193159Z
LAST-MODIFIED:20191103T175639Z
UID:8121-1572307200-1572393599@www.vermontfamilynetwork.org
SUMMARY:Sara Marie School puppet presentation
DESCRIPTION:Generously sponsored by DePaula Chevrolet \n8:30-9:00 Friendship for Grade PreK\n9:10-9:40 Friendship for Grade PreK\n9:50-10:20 Friendship for Grade PreK\n10:30-11:00 Friendship for Grade PreK
URL:https://www.vermontfamilynetwork.org/event/available-for-shows-9/
CATEGORIES:Puppets in Education
END:VEVENT
END:VCALENDAR