BEGIN:VCALENDAR
VERSION:2.0
PRODID:-//Vermont Family Network - ECPv6.15.18//NONSGML v1.0//EN
CALSCALE:GREGORIAN
METHOD:PUBLISH
X-ORIGINAL-URL:https://www.vermontfamilynetwork.org
X-WR-CALDESC:Events for Vermont Family Network
REFRESH-INTERVAL;VALUE=DURATION:PT1H
X-Robots-Tag:noindex
X-PUBLISHED-TTL:PT1H
BEGIN:VTIMEZONE
TZID:America/New_York
BEGIN:DAYLIGHT
TZOFFSETFROM:-0500
TZOFFSETTO:-0400
TZNAME:EDT
DTSTART:20230312T070000
END:DAYLIGHT
BEGIN:STANDARD
TZOFFSETFROM:-0400
TZOFFSETTO:-0500
TZNAME:EST
DTSTART:20231105T060000
END:STANDARD
BEGIN:DAYLIGHT
TZOFFSETFROM:-0500
TZOFFSETTO:-0400
TZNAME:EDT
DTSTART:20240310T070000
END:DAYLIGHT
BEGIN:STANDARD
TZOFFSETFROM:-0400
TZOFFSETTO:-0500
TZNAME:EST
DTSTART:20241103T060000
END:STANDARD
BEGIN:DAYLIGHT
TZOFFSETFROM:-0500
TZOFFSETTO:-0400
TZNAME:EDT
DTSTART:20250309T070000
END:DAYLIGHT
BEGIN:STANDARD
TZOFFSETFROM:-0400
TZOFFSETTO:-0500
TZNAME:EST
DTSTART:20251102T060000
END:STANDARD
END:VTIMEZONE
BEGIN:VEVENT
DTSTART;TZID=America/New_York:20240605T080000
DTEND;TZID=America/New_York:20240605T170000
DTSTAMP:20260425T161254
CREATED:20240513T205814Z
LAST-MODIFIED:20240513T205814Z
UID:11454-1717574400-1717606800@www.vermontfamilynetwork.org
SUMMARY:Shelburne Community School Puppet Presentation
DESCRIPTION:Puppet presentations generously sponsored by VT Department of Mental Health
URL:https://www.vermontfamilynetwork.org/event/shelburne-community-school-puppet-presentation-3/
CATEGORIES:Puppets in Education
END:VEVENT
BEGIN:VEVENT
DTSTART;TZID=America/New_York:20240606T080000
DTEND;TZID=America/New_York:20240606T170000
DTSTAMP:20260425T161254
CREATED:20240521T151230Z
LAST-MODIFIED:20240521T151230Z
UID:11463-1717660800-1717693200@www.vermontfamilynetwork.org
SUMMARY:CP Smith Elementary School Puppet Presentation
DESCRIPTION:Puppet presentations generously sponsored by VT Department of Mental Health
URL:https://www.vermontfamilynetwork.org/event/cp-smith-elementary-school-puppet-presentation/
CATEGORIES:Puppets in Education
END:VEVENT
BEGIN:VEVENT
DTSTART;TZID=America/New_York:20240624T101500
DTEND;TZID=America/New_York:20240624T105000
DTSTAMP:20260425T161254
CREATED:20240513T210043Z
LAST-MODIFIED:20240521T151103Z
UID:11456-1719224100-1719226200@www.vermontfamilynetwork.org
SUMMARY:Fletcher Free Library Puppet Presentation
DESCRIPTION:Puppet presentation generously sponsored by VT Department of Mental Health \n10:15 – 10:50 a.m. Anxiety puppet presentation for mixed ages
URL:https://www.vermontfamilynetwork.org/event/fletcher-free-library-puppet-presentation/
CATEGORIES:Puppets in Education
END:VEVENT
BEGIN:VEVENT
DTSTART;TZID=America/New_York:20240626T103000
DTEND;TZID=America/New_York:20240626T113000
DTSTAMP:20260425T161254
CREATED:20240513T210244Z
LAST-MODIFIED:20240521T150757Z
UID:11457-1719397800-1719401400@www.vermontfamilynetwork.org
SUMMARY:Waterbury Library Puppet Presentation
DESCRIPTION:Puppet presentation generously sponsored by VT Department of Mental Health \n10:30 a.m. Anxiety puppet presentation for mixed ages
URL:https://www.vermontfamilynetwork.org/event/waterbury-library-puppet-presentation/
CATEGORIES:Puppets in Education
END:VEVENT
BEGIN:VEVENT
DTSTART;TZID=America/New_York:20240627T133000
DTEND;TZID=America/New_York:20240627T143000
DTSTAMP:20260425T161254
CREATED:20240513T210443Z
LAST-MODIFIED:20240521T150653Z
UID:11458-1719495000-1719498600@www.vermontfamilynetwork.org
SUMMARY:Aldrich Library Puppet Presentation
DESCRIPTION:Puppet presentation generously sponsored by VT Department of Mental Health \n1:30 p.m. Anxiety puppet presentation for mixed ages
URL:https://www.vermontfamilynetwork.org/event/aldrich-library-puppet-presentation/
CATEGORIES:Puppets in Education
END:VEVENT
END:VCALENDAR