BEGIN:VCALENDAR
VERSION:2.0
PRODID:-//Vermont Family Network - ECPv6.15.18//NONSGML v1.0//EN
CALSCALE:GREGORIAN
METHOD:PUBLISH
X-WR-CALNAME:Vermont Family Network
X-ORIGINAL-URL:https://www.vermontfamilynetwork.org
X-WR-CALDESC:Events for Vermont Family Network
REFRESH-INTERVAL;VALUE=DURATION:PT1H
X-Robots-Tag:noindex
X-PUBLISHED-TTL:PT1H
BEGIN:VTIMEZONE
TZID:America/New_York
BEGIN:DAYLIGHT
TZOFFSETFROM:-0500
TZOFFSETTO:-0400
TZNAME:EDT
DTSTART:20240310T070000
END:DAYLIGHT
BEGIN:STANDARD
TZOFFSETFROM:-0400
TZOFFSETTO:-0500
TZNAME:EST
DTSTART:20241103T060000
END:STANDARD
BEGIN:DAYLIGHT
TZOFFSETFROM:-0500
TZOFFSETTO:-0400
TZNAME:EDT
DTSTART:20250309T070000
END:DAYLIGHT
BEGIN:STANDARD
TZOFFSETFROM:-0400
TZOFFSETTO:-0500
TZNAME:EST
DTSTART:20251102T060000
END:STANDARD
BEGIN:DAYLIGHT
TZOFFSETFROM:-0500
TZOFFSETTO:-0400
TZNAME:EDT
DTSTART:20260308T070000
END:DAYLIGHT
BEGIN:STANDARD
TZOFFSETFROM:-0400
TZOFFSETTO:-0500
TZNAME:EST
DTSTART:20261101T060000
END:STANDARD
END:VTIMEZONE
BEGIN:VEVENT
DTSTART;TZID=America/New_York:20251113T130000
DTEND;TZID=America/New_York:20251113T140000
DTSTAMP:20260420T135316
CREATED:20250923T175722Z
LAST-MODIFIED:20251113T230003Z
UID:12255-1763038800-1763042400@www.vermontfamilynetwork.org
SUMMARY:Watch: Students with Disabilities and Career and Technical Education (CTE) Programs
DESCRIPTION:Watch the recording of the “Students with Disabilities and Career and Technical Education (CTE) Programs” workshop here.\nThis workshop explores the different programs and courses offered through Career and Technical Education (CTE)\, and the ways that families\, schools and CTE centers can collaborate to support students with disabilities who want to pursue a technical education program. \nPresenter: \n\nJohn Spinney\, Postsecondary Transition Coordinator at the VT Agency of Education. John is in his 20th year at the AOE\, where he works to support systems that promote good transitions to post school life for students with disabilities statewide. John’s two youngest brothers were adopted as infants\, and both have Down Syndrome. John grew up being immersed in the disability world and is the legal guardian for his two brothers who are now in their 40s.
URL:https://www.vermontfamilynetwork.org/event/register-for-students-with-disabilities-and-career-and-technical-education-cte-programs/
CATEGORIES:Past
ORGANIZER;CN="Vermont Family Network":MAILTO:rachel.boyers@vtfn.org
END:VEVENT
END:VCALENDAR