BEGIN:VCALENDAR
VERSION:2.0
PRODID:-//Vermont Family Network - ECPv6.15.18//NONSGML v1.0//EN
CALSCALE:GREGORIAN
METHOD:PUBLISH
X-WR-CALNAME:Vermont Family Network
X-ORIGINAL-URL:https://www.vermontfamilynetwork.org
X-WR-CALDESC:Events for Vermont Family Network
REFRESH-INTERVAL;VALUE=DURATION:PT1H
X-Robots-Tag:noindex
X-PUBLISHED-TTL:PT1H
BEGIN:VTIMEZONE
TZID:America/New_York
BEGIN:DAYLIGHT
TZOFFSETFROM:-0500
TZOFFSETTO:-0400
TZNAME:EDT
DTSTART:20240310T070000
END:DAYLIGHT
BEGIN:STANDARD
TZOFFSETFROM:-0400
TZOFFSETTO:-0500
TZNAME:EST
DTSTART:20241103T060000
END:STANDARD
BEGIN:DAYLIGHT
TZOFFSETFROM:-0500
TZOFFSETTO:-0400
TZNAME:EDT
DTSTART:20250309T070000
END:DAYLIGHT
BEGIN:STANDARD
TZOFFSETFROM:-0400
TZOFFSETTO:-0500
TZNAME:EST
DTSTART:20251102T060000
END:STANDARD
BEGIN:DAYLIGHT
TZOFFSETFROM:-0500
TZOFFSETTO:-0400
TZNAME:EDT
DTSTART:20260308T070000
END:DAYLIGHT
BEGIN:STANDARD
TZOFFSETFROM:-0400
TZOFFSETTO:-0500
TZNAME:EST
DTSTART:20261101T060000
END:STANDARD
END:VTIMEZONE
BEGIN:VEVENT
DTSTART;TZID=America/New_York:20250313T080000
DTEND;TZID=America/New_York:20250313T170000
DTSTAMP:20260420T071535
CREATED:20250318T160915Z
LAST-MODIFIED:20250318T160915Z
UID:11951-1741852800-1741885200@www.vermontfamilynetwork.org
SUMMARY:Milton Elementary School Puppet Presentation
DESCRIPTION:Puppet presentations generously sponsored by the VT Department of Mental Health
URL:https://www.vermontfamilynetwork.org/event/milton-elementary-school-puppet-presentation-3/
CATEGORIES:Puppets in Education
END:VEVENT
BEGIN:VEVENT
DTSTART;TZID=America/New_York:20250313T130000
DTEND;TZID=America/New_York:20250313T140000
DTSTAMP:20260420T071535
CREATED:20250130T195527Z
LAST-MODIFIED:20250313T213745Z
UID:11897-1741870800-1741874400@www.vermontfamilynetwork.org
SUMMARY:Watch: The Vermont Graduation Readiness Tool
DESCRIPTION:Watch the recording of  “The Vermont Graduation Readiness Tool” workshop here.\nThis workshop covers the concept of the graduation readiness tool and how IEP teams\, which include parents/guardians should use it. The timing of graduation for students with disabilities can be hard to determine especially for students with complex and intensive needs. This tool helps the IEP team better “see” when graduation should happen because for students on IEPs graduation is not just about meeting the graduation requirements\, it is also about reasonable and appropriate access to transition services. This tool helps teams make sure students are ready to graduate. This workshop reviews the new and improved second edition of this tool which has been just released this year. \nPresenter:\n– John Spinney\, Postsecondary Transition Coordinator at the VT Agency of Education. John is in his 20th year at the VT AOE where he works to support systems that promote good transitions to post school life for students with disabilities statewide. John’s two youngest brothers were adopted as infants and both have Down Syndrome. John’s grew up being immersed in the disability world and is now the legal guardian for his two brothers who are in their 40s now.
URL:https://www.vermontfamilynetwork.org/event/register-for-3-13-25-the-vermont-graduation-readiness-tool/
CATEGORIES:Past
ORGANIZER;CN="Vermont Family Network":MAILTO:rachel.boyers@vtfn.org
END:VEVENT
END:VCALENDAR