BEGIN:VCALENDAR
VERSION:2.0
PRODID:-//Vermont Family Network - ECPv6.15.18//NONSGML v1.0//EN
CALSCALE:GREGORIAN
METHOD:PUBLISH
X-WR-CALNAME:Vermont Family Network
X-ORIGINAL-URL:https://www.vermontfamilynetwork.org
X-WR-CALDESC:Events for Vermont Family Network
REFRESH-INTERVAL;VALUE=DURATION:PT1H
X-Robots-Tag:noindex
X-PUBLISHED-TTL:PT1H
BEGIN:VTIMEZONE
TZID:America/New_York
BEGIN:DAYLIGHT
TZOFFSETFROM:-0500
TZOFFSETTO:-0400
TZNAME:EDT
DTSTART:20230312T070000
END:DAYLIGHT
BEGIN:STANDARD
TZOFFSETFROM:-0400
TZOFFSETTO:-0500
TZNAME:EST
DTSTART:20231105T060000
END:STANDARD
BEGIN:DAYLIGHT
TZOFFSETFROM:-0500
TZOFFSETTO:-0400
TZNAME:EDT
DTSTART:20240310T070000
END:DAYLIGHT
BEGIN:STANDARD
TZOFFSETFROM:-0400
TZOFFSETTO:-0500
TZNAME:EST
DTSTART:20241103T060000
END:STANDARD
BEGIN:DAYLIGHT
TZOFFSETFROM:-0500
TZOFFSETTO:-0400
TZNAME:EDT
DTSTART:20250309T070000
END:DAYLIGHT
BEGIN:STANDARD
TZOFFSETFROM:-0400
TZOFFSETTO:-0500
TZNAME:EST
DTSTART:20251102T060000
END:STANDARD
END:VTIMEZONE
BEGIN:VEVENT
DTSTART;TZID=America/New_York:20240314T080000
DTEND;TZID=America/New_York:20240314T170000
DTSTAMP:20260422T150726
CREATED:20231114T151502Z
LAST-MODIFIED:20231114T151502Z
UID:11183-1710403200-1710435600@www.vermontfamilynetwork.org
SUMMARY:Johnson Elementary School Puppet Presentation
DESCRIPTION:Puppet Program & Workshop
URL:https://www.vermontfamilynetwork.org/event/johnson-elementary-school-puppet-presentation-2/
CATEGORIES:Puppets in Education
END:VEVENT
BEGIN:VEVENT
DTSTART;TZID=America/New_York:20240314T100000
DTEND;TZID=America/New_York:20240314T110000
DTSTAMP:20260422T150726
CREATED:20240208T181728Z
LAST-MODIFIED:20240314T212024Z
UID:11301-1710410400-1710414000@www.vermontfamilynetwork.org
SUMMARY:Watch: Genetic Connections: Introduction to Genetics\, Red Flags and Resources - Part Two
DESCRIPTION:Watch the recording of the “Genetic Connections: Introduction to Genetics\, Red Flags and Resources – Part Two” workshop here.\nThis two-part webinar was originally created by the Mountain State Regional Genetic Network. It will break down and explain the who and why of genetics\, genetic vocabulary and basic genetic concepts. We will also explore four case studies and go over what the red flags are that families and professionals should consider when referring to a genetic specialist. Lastly\, we will discuss how a genetic navigator might assist in this process as well as other local\, regional\, and national genetic resources. This webinar will benefit those who are navigating a genetic diagnosis\, and those hoping to understand more about the basics of genetics. Part One will be posted on our YouTube channel. \n** This workshop is supported by the Health Resources and Services Administration (HRSA) of the U.S. Department of Health and Human Services (HHS) as part of an award totaling $600\,000 with 0 percent financed with non-governmental sources. The contents are those of the author(s) and do not necessarily represent the official views of\, nor an endorsement\, by HRSA\, HHS\, or the U.S. Government. For more information\, please visit HRSA.gov \nPresenter:\n– Ashley Michaud\, BA\, is the Genetic Navigator for Vermont Family Network and the mom of a 6-year-old living with a rare genetic condition. Genetic Navigation is a family support that aims to provide guidance\, resources\, and assist families accessing genetic services or living with a genetic condition. Genetic navigation is an initiative that began in the Mountain States Regional Genetic Network and through the support of the New England Regional Genetic Network\, Ashley completed the 8 hours of training to bring this resource to Vermont. Through this work\, Ashley hopes to raise awareness and strengthen a family’s voices when navigating the genetic services system.
URL:https://www.vermontfamilynetwork.org/event/11301/
CATEGORIES:Past
ORGANIZER;CN="Vermont Family Network":MAILTO:rachel.boyers@vtfn.org
END:VEVENT
END:VCALENDAR