BEGIN:VCALENDAR
VERSION:2.0
PRODID:-//Vermont Family Network - ECPv6.15.18//NONSGML v1.0//EN
CALSCALE:GREGORIAN
METHOD:PUBLISH
X-ORIGINAL-URL:https://www.vermontfamilynetwork.org
X-WR-CALDESC:Events for Vermont Family Network
REFRESH-INTERVAL;VALUE=DURATION:PT1H
X-Robots-Tag:noindex
X-PUBLISHED-TTL:PT1H
BEGIN:VTIMEZONE
TZID:America/New_York
BEGIN:DAYLIGHT
TZOFFSETFROM:-0500
TZOFFSETTO:-0400
TZNAME:EDT
DTSTART:20220313T070000
END:DAYLIGHT
BEGIN:STANDARD
TZOFFSETFROM:-0400
TZOFFSETTO:-0500
TZNAME:EST
DTSTART:20221106T060000
END:STANDARD
BEGIN:DAYLIGHT
TZOFFSETFROM:-0500
TZOFFSETTO:-0400
TZNAME:EDT
DTSTART:20230312T070000
END:DAYLIGHT
BEGIN:STANDARD
TZOFFSETFROM:-0400
TZOFFSETTO:-0500
TZNAME:EST
DTSTART:20231105T060000
END:STANDARD
BEGIN:DAYLIGHT
TZOFFSETFROM:-0500
TZOFFSETTO:-0400
TZNAME:EDT
DTSTART:20240310T070000
END:DAYLIGHT
BEGIN:STANDARD
TZOFFSETFROM:-0400
TZOFFSETTO:-0500
TZNAME:EST
DTSTART:20241103T060000
END:STANDARD
END:VTIMEZONE
BEGIN:VEVENT
DTSTART;TZID=America/New_York:20231116T080000
DTEND;TZID=America/New_York:20231116T170000
DTSTAMP:20260422T123815
CREATED:20230921T160222Z
LAST-MODIFIED:20231108T214919Z
UID:11070-1700121600-1700154000@www.vermontfamilynetwork.org
SUMMARY:Lowell Graded School Puppet Presentation
DESCRIPTION:Puppet Program & Workshop
URL:https://www.vermontfamilynetwork.org/event/lowell-graded-school-puppet-presentation/
CATEGORIES:Puppets in Education
END:VEVENT
BEGIN:VEVENT
DTSTART;TZID=America/New_York:20231116T130000
DTEND;TZID=America/New_York:20231116T140000
DTSTAMP:20260422T123815
CREATED:20231026T162355Z
LAST-MODIFIED:20231120T170340Z
UID:11154-1700139600-1700143200@www.vermontfamilynetwork.org
SUMMARY:Watch: Working with First Responders - What Families Should Know
DESCRIPTION:Watch the recording for the “Working with First Responders – What Families Should Know” workshop.\nIt is a call no family wants to have to make. Yet many families must access emergency services via first responders when there is a mental health and/or medical crisis. There may not be a mental health professional available to respond and/or there may be a co-occurring medical or safety issue. When this level of intervention must happen\, what should families know\, and how can they prepare their child and first responders for this type of encounter? In this workshop our three panelists provide information about training for law enforcement and EMTs in Vermont as well as offer practical tips for families about what to expect and how to prepare for this response. \nPresenters:\n• Kristin Chandler\, J.D. – Coordinator of Team Two (Where Law Enforcement and Mental Health Crisis Counselors Collaborate)\n• Deputy Chief Sean Briscoe – Deputy Chief of Police\, City of South Burlington\n• Nick Perkov – Captain/Paramedic\, City of South Burlington Fire Department
URL:https://www.vermontfamilynetwork.org/event/register-for-working-with-first-responders-what-families-should-know/
CATEGORIES:Past
ORGANIZER;CN="Vermont Family Network":MAILTO:rachel.boyers@vtfn.org
END:VEVENT
END:VCALENDAR