BEGIN:VCALENDAR
VERSION:2.0
PRODID:-//Vermont Family Network - ECPv6.15.18//NONSGML v1.0//EN
CALSCALE:GREGORIAN
METHOD:PUBLISH
X-WR-CALNAME:Vermont Family Network
X-ORIGINAL-URL:https://www.vermontfamilynetwork.org
X-WR-CALDESC:Events for Vermont Family Network
REFRESH-INTERVAL;VALUE=DURATION:PT1H
X-Robots-Tag:noindex
X-PUBLISHED-TTL:PT1H
BEGIN:VTIMEZONE
TZID:America/New_York
BEGIN:DAYLIGHT
TZOFFSETFROM:-0500
TZOFFSETTO:-0400
TZNAME:EDT
DTSTART:20220313T070000
END:DAYLIGHT
BEGIN:STANDARD
TZOFFSETFROM:-0400
TZOFFSETTO:-0500
TZNAME:EST
DTSTART:20221106T060000
END:STANDARD
BEGIN:DAYLIGHT
TZOFFSETFROM:-0500
TZOFFSETTO:-0400
TZNAME:EDT
DTSTART:20230312T070000
END:DAYLIGHT
BEGIN:STANDARD
TZOFFSETFROM:-0400
TZOFFSETTO:-0500
TZNAME:EST
DTSTART:20231105T060000
END:STANDARD
BEGIN:DAYLIGHT
TZOFFSETFROM:-0500
TZOFFSETTO:-0400
TZNAME:EDT
DTSTART:20240310T070000
END:DAYLIGHT
BEGIN:STANDARD
TZOFFSETFROM:-0400
TZOFFSETTO:-0500
TZNAME:EST
DTSTART:20241103T060000
END:STANDARD
END:VTIMEZONE
BEGIN:VEVENT
DTSTART;TZID=America/New_York:20230524T080000
DTEND;TZID=America/New_York:20230524T170000
DTSTAMP:20260422T094702
CREATED:20230223T164302Z
LAST-MODIFIED:20230223T164326Z
UID:10771-1684915200-1684947600@www.vermontfamilynetwork.org
SUMMARY:Champlain Elementary School Puppet Presentation
DESCRIPTION:Generously sponsored by Creative Labels of Vermont
URL:https://www.vermontfamilynetwork.org/event/champlain-elementary-school-puppet-presentation/
CATEGORIES:Puppets in Education
END:VEVENT
BEGIN:VEVENT
DTSTART;TZID=America/New_York:20230524T100000
DTEND;TZID=America/New_York:20230524T110000
DTSTAMP:20260422T094702
CREATED:20230413T194135Z
LAST-MODIFIED:20230615T202916Z
UID:10845-1684922400-1684926000@www.vermontfamilynetwork.org
SUMMARY:Watch: Special Education Rule Changes Series Part 2 - "Adverse Effect and Functional Skills Changes"
DESCRIPTION:Watch the recording of “Special Education Rule Changes Series Part 2 – Adverse Effect and Functional Skills Changes” here.\nThis is session two of three in the VFN/Agency of Education Virtual Town Hall Sessions where the July 1\, 2023 Special Education Rule changes are discussed. Topics include the nature of the Rule changes\, adverse effect\, functional skills\, and specific learning disability changes. \nEach session covers a different area and links to the recording can be found on our website and YouTube channel. \n\nPart 1 – “Rule Change Implementation”\nPart 2 – “Adverse Effect and Functional Skills Changes”\nPart 3 – “Specific Learning Disability Changes”\n\nPresenters:\nRepresentatives from the VT Agency of Education and VFN
URL:https://www.vermontfamilynetwork.org/event/register-for-special-education-rule-changes-series-2/
CATEGORIES:Past
ORGANIZER;CN="Vermont Family Network":MAILTO:rachel.boyers@vtfn.org
END:VEVENT
END:VCALENDAR