BEGIN:VCALENDAR
VERSION:2.0
PRODID:-//Vermont Family Network - ECPv6.15.18//NONSGML v1.0//EN
CALSCALE:GREGORIAN
METHOD:PUBLISH
X-WR-CALNAME:Vermont Family Network
X-ORIGINAL-URL:https://www.vermontfamilynetwork.org
X-WR-CALDESC:Events for Vermont Family Network
REFRESH-INTERVAL;VALUE=DURATION:PT1H
X-Robots-Tag:noindex
X-PUBLISHED-TTL:PT1H
BEGIN:VTIMEZONE
TZID:America/New_York
BEGIN:DAYLIGHT
TZOFFSETFROM:-0500
TZOFFSETTO:-0400
TZNAME:EDT
DTSTART:20200308T070000
END:DAYLIGHT
BEGIN:STANDARD
TZOFFSETFROM:-0400
TZOFFSETTO:-0500
TZNAME:EST
DTSTART:20201101T060000
END:STANDARD
BEGIN:DAYLIGHT
TZOFFSETFROM:-0500
TZOFFSETTO:-0400
TZNAME:EDT
DTSTART:20210314T070000
END:DAYLIGHT
BEGIN:STANDARD
TZOFFSETFROM:-0400
TZOFFSETTO:-0500
TZNAME:EST
DTSTART:20211107T060000
END:STANDARD
BEGIN:DAYLIGHT
TZOFFSETFROM:-0500
TZOFFSETTO:-0400
TZNAME:EDT
DTSTART:20220313T070000
END:DAYLIGHT
BEGIN:STANDARD
TZOFFSETFROM:-0400
TZOFFSETTO:-0500
TZNAME:EST
DTSTART:20221106T060000
END:STANDARD
END:VTIMEZONE
BEGIN:VEVENT
DTSTART;TZID=America/New_York:20210629T190000
DTEND;TZID=America/New_York:20210629T200000
DTSTAMP:20260425T235834
CREATED:20210617T190043Z
LAST-MODIFIED:20220815T175716Z
UID:9667-1624993200-1624996800@www.vermontfamilynetwork.org
SUMMARY:Watch: Pediatric Perspectives - A Community Conversation on COVID-19 Vaccine and Children with Disabilities/Special Health Needs
DESCRIPTION:Watch the Pediatric Perspectives: A Community Conversation on COVID-19 Vaccine and Children with Disabilities/Special Health Needs recording here.\nDo you have questions about getting the COVID-19 vaccine for your child? Whether you have a 12+ year-old who is eligible now to receive the vaccine or you are anticipating a vaccine for children under the age of 12 years this fall\, you may have concerns or questions about the vaccine and your child’s disability or health condition. Please join us for an opportunity to have two of Vermont’s most trusted children’s health experts\, Dr. Jill Rinehart and Dr. Rebecca Bell\, answer your questions and address any hesitancies you may have around getting your child vaccinated. This discussion will be moderated by Stephanie Winters\, Executive Director of VT’s American Academy of Pediatrics Chapter. \nPresenters: \n\nJill Rinehart\, MD\, pediatric primary care physician and director of the Pediatric Residency Program at the UVM Larner School of Medicine\nRebecca Bell\, MD\, pediatric critical care physician at the UVM Medical Center and President of VT’s American Academy of Pediatrics Chapter\n\nModerator: \n\nStephanie Winters\, Executive Director of VT’s American Academy of Pediatrics Chapter
URL:https://www.vermontfamilynetwork.org/event/pediatricians-and-the-pandemic-a-community-conversation-on-covid-19-vaccine-and-children-with-disabilities-special-health-needs/
CATEGORIES:Past
ORGANIZER;CN="Vermont Family Network":MAILTO:rachel.boyers@vtfn.org
END:VEVENT
END:VCALENDAR