BEGIN:VCALENDAR
VERSION:2.0
PRODID:-//Vermont Family Network - ECPv6.15.18//NONSGML v1.0//EN
CALSCALE:GREGORIAN
METHOD:PUBLISH
X-WR-CALNAME:Vermont Family Network
X-ORIGINAL-URL:https://www.vermontfamilynetwork.org
X-WR-CALDESC:Events for Vermont Family Network
REFRESH-INTERVAL;VALUE=DURATION:PT1H
X-Robots-Tag:noindex
X-PUBLISHED-TTL:PT1H
BEGIN:VTIMEZONE
TZID:America/New_York
BEGIN:DAYLIGHT
TZOFFSETFROM:-0500
TZOFFSETTO:-0400
TZNAME:EDT
DTSTART:20190310T070000
END:DAYLIGHT
BEGIN:STANDARD
TZOFFSETFROM:-0400
TZOFFSETTO:-0500
TZNAME:EST
DTSTART:20191103T060000
END:STANDARD
BEGIN:DAYLIGHT
TZOFFSETFROM:-0500
TZOFFSETTO:-0400
TZNAME:EDT
DTSTART:20200308T070000
END:DAYLIGHT
BEGIN:STANDARD
TZOFFSETFROM:-0400
TZOFFSETTO:-0500
TZNAME:EST
DTSTART:20201101T060000
END:STANDARD
BEGIN:DAYLIGHT
TZOFFSETFROM:-0500
TZOFFSETTO:-0400
TZNAME:EDT
DTSTART:20210314T070000
END:DAYLIGHT
BEGIN:STANDARD
TZOFFSETFROM:-0400
TZOFFSETTO:-0500
TZNAME:EST
DTSTART:20211107T060000
END:STANDARD
END:VTIMEZONE
BEGIN:VEVENT
DTSTART;TZID=America/New_York:20201202T120000
DTEND;TZID=America/New_York:20201202T130000
DTSTAMP:20260423T202931
CREATED:20201028T181238Z
LAST-MODIFIED:20210108T200020Z
UID:9204-1606910400-1606914000@www.vermontfamilynetwork.org
SUMMARY:Online Learning Series: Family Worry in 2020 - 12/2
DESCRIPTION:December 2 from 12 noon- 1 pm – Family Worry in 2020.  What’s Not to Worry About? 2020 has been a challenging year for a variety of reasons. In the context of the pandemic\, a divisive political landscape\, and ongoing uncertainty around social justice issues\, you and your family may be feeling more worried and on-edge. You are not alone as many families are experiencing higher levels of stress and anxiety. What might anxiety look like in your child and what are some strategies that can be helpful in managing such anxieties?Presenters: Jeremiah Dickerson\, MD; Child & Adolescent Psychiatrist and Aamani Chava\, MD; Child & Adolescent Psychiatry Fellow\, UVM Medical Center and Larner College of Medicine at UVM. Register here
URL:https://www.vermontfamilynetwork.org/event/online-learning-series-family-worry-in-2020/
CATEGORIES:Past
END:VEVENT
END:VCALENDAR