BEGIN:VCALENDAR
VERSION:2.0
PRODID:-//Vermont Family Network - ECPv6.15.18//NONSGML v1.0//EN
CALSCALE:GREGORIAN
METHOD:PUBLISH
X-WR-CALNAME:Vermont Family Network
X-ORIGINAL-URL:https://www.vermontfamilynetwork.org
X-WR-CALDESC:Events for Vermont Family Network
REFRESH-INTERVAL;VALUE=DURATION:PT1H
X-Robots-Tag:noindex
X-PUBLISHED-TTL:PT1H
BEGIN:VTIMEZONE
TZID:America/New_York
BEGIN:DAYLIGHT
TZOFFSETFROM:-0500
TZOFFSETTO:-0400
TZNAME:EDT
DTSTART:20190310T070000
END:DAYLIGHT
BEGIN:STANDARD
TZOFFSETFROM:-0400
TZOFFSETTO:-0500
TZNAME:EST
DTSTART:20191103T060000
END:STANDARD
BEGIN:DAYLIGHT
TZOFFSETFROM:-0500
TZOFFSETTO:-0400
TZNAME:EDT
DTSTART:20200308T070000
END:DAYLIGHT
BEGIN:STANDARD
TZOFFSETFROM:-0400
TZOFFSETTO:-0500
TZNAME:EST
DTSTART:20201101T060000
END:STANDARD
BEGIN:DAYLIGHT
TZOFFSETFROM:-0500
TZOFFSETTO:-0400
TZNAME:EDT
DTSTART:20210314T070000
END:DAYLIGHT
BEGIN:STANDARD
TZOFFSETFROM:-0400
TZOFFSETTO:-0500
TZNAME:EST
DTSTART:20211107T060000
END:STANDARD
END:VTIMEZONE
BEGIN:VEVENT
DTSTART;TZID=America/New_York:20201019T090000
DTEND;TZID=America/New_York:20201019T100000
DTSTAMP:20260421T141800
CREATED:20200923T133324Z
LAST-MODIFIED:20210108T200200Z
UID:9151-1603098000-1603101600@www.vermontfamilynetwork.org
SUMMARY:Online Learning Series: Family Strategies for Mitigating the Long-Term Effects of the Pandemic
DESCRIPTION:October 19 from 9 am – 10 am – Family Strategies for Mitigating the Long-Term Effects of the Pandemic. Presenter: Dr. Marlene Marone\, Licensed Psychologist-Doctorate\, Chief Psychologist & Manager\, Psychological Services\, University of Vermont Medical Center. Register here. \nThis workshop will be recorded and saved on our website and YouTube channel.
URL:https://www.vermontfamilynetwork.org/event/online-learning-series-family-strategies-for-mitigating-the-long-term-effects-of-the-pandemic/
CATEGORIES:Past
END:VEVENT
END:VCALENDAR