BEGIN:VCALENDAR
VERSION:2.0
PRODID:-//Vermont Family Network - ECPv6.15.18//NONSGML v1.0//EN
CALSCALE:GREGORIAN
METHOD:PUBLISH
X-WR-CALNAME:Vermont Family Network
X-ORIGINAL-URL:https://www.vermontfamilynetwork.org
X-WR-CALDESC:Events for Vermont Family Network
REFRESH-INTERVAL;VALUE=DURATION:PT1H
X-Robots-Tag:noindex
X-PUBLISHED-TTL:PT1H
BEGIN:VTIMEZONE
TZID:America/New_York
BEGIN:DAYLIGHT
TZOFFSETFROM:-0500
TZOFFSETTO:-0400
TZNAME:EDT
DTSTART:20190310T070000
END:DAYLIGHT
BEGIN:STANDARD
TZOFFSETFROM:-0400
TZOFFSETTO:-0500
TZNAME:EST
DTSTART:20191103T060000
END:STANDARD
BEGIN:DAYLIGHT
TZOFFSETFROM:-0500
TZOFFSETTO:-0400
TZNAME:EDT
DTSTART:20200308T070000
END:DAYLIGHT
BEGIN:STANDARD
TZOFFSETFROM:-0400
TZOFFSETTO:-0500
TZNAME:EST
DTSTART:20201101T060000
END:STANDARD
BEGIN:DAYLIGHT
TZOFFSETFROM:-0500
TZOFFSETTO:-0400
TZNAME:EDT
DTSTART:20210314T070000
END:DAYLIGHT
BEGIN:STANDARD
TZOFFSETFROM:-0400
TZOFFSETTO:-0500
TZNAME:EST
DTSTART:20211107T060000
END:STANDARD
END:VTIMEZONE
BEGIN:VEVENT
DTSTART;TZID=America/New_York:20200919T130000
DTEND;TZID=America/New_York:20200919T140000
DTSTAMP:20260421T170259
CREATED:20200818T131011Z
LAST-MODIFIED:20220815T175838Z
UID:9084-1600520400-1600524000@www.vermontfamilynetwork.org
SUMMARY:Sibshop: Getting to Know You
DESCRIPTION:Saturday September 19 – Getting to Know You 1-2:00 pm \nCome get to know other sibs with some fun ice breaker games! Each sib should come prepared to show and tell about a family photo. Then we’ll learn more about one another with games like Two Truths & a Lie\, and a sib-style version of Never Have I Ever. The theme of this Sibshop is connection. We’ll discuss similarities and differences between ourselves and our sibs\, as well as among the sibs in our group. How can we use our similarities to connect with one another? Can you think of ways we could even connect around our differences? Register here. If you have any questions\, please email Molly Lawney.
URL:https://www.vermontfamilynetwork.org/event/sibshop-getting-to-know-you/
CATEGORIES:Past
END:VEVENT
END:VCALENDAR