BEGIN:VCALENDAR
VERSION:2.0
PRODID:-//Vermont Family Network - ECPv6.15.18//NONSGML v1.0//EN
CALSCALE:GREGORIAN
METHOD:PUBLISH
X-ORIGINAL-URL:https://www.vermontfamilynetwork.org
X-WR-CALDESC:Events for Vermont Family Network
REFRESH-INTERVAL;VALUE=DURATION:PT1H
X-Robots-Tag:noindex
X-PUBLISHED-TTL:PT1H
BEGIN:VTIMEZONE
TZID:America/New_York
BEGIN:DAYLIGHT
TZOFFSETFROM:-0500
TZOFFSETTO:-0400
TZNAME:EDT
DTSTART:20190310T070000
END:DAYLIGHT
BEGIN:STANDARD
TZOFFSETFROM:-0400
TZOFFSETTO:-0500
TZNAME:EST
DTSTART:20191103T060000
END:STANDARD
BEGIN:DAYLIGHT
TZOFFSETFROM:-0500
TZOFFSETTO:-0400
TZNAME:EDT
DTSTART:20200308T070000
END:DAYLIGHT
BEGIN:STANDARD
TZOFFSETFROM:-0400
TZOFFSETTO:-0500
TZNAME:EST
DTSTART:20201101T060000
END:STANDARD
BEGIN:DAYLIGHT
TZOFFSETFROM:-0500
TZOFFSETTO:-0400
TZNAME:EDT
DTSTART:20210314T070000
END:DAYLIGHT
BEGIN:STANDARD
TZOFFSETFROM:-0400
TZOFFSETTO:-0500
TZNAME:EST
DTSTART:20211107T060000
END:STANDARD
END:VTIMEZONE
BEGIN:VEVENT
DTSTART;TZID=America/New_York:20200918T130000
DTEND;TZID=America/New_York:20200918T143000
DTSTAMP:20260421T113640
CREATED:20200831T155501Z
LAST-MODIFIED:20220815T175847Z
UID:9110-1600434000-1600439400@www.vermontfamilynetwork.org
SUMMARY:Town Hall: Back to School for K-12 Students in Vermont with Disabilities or Special Health Needs - 9/18
DESCRIPTION:As the new school year begins\, families of children with disabilities or special health needs are making hard choices about what works best for their family. There is so much information which changes constantly that it can be hard to keep up with it all. In this Town Hall\, we’ll answer some of the most common questions that families are asking. You are invited to submit your questions in advance to EventsCoordinator@vtfn.org. \nPresenters: \nVermont Family Network: Karen Price\, Co-Director Family Support-Education \nEducation (Vermont Agency of Education): Dr. Jacqueline Kelleher\, State Director for Special Education; Tracy Harris\, Coordinator for Behavioral Supports; Katy Langevin; and Ernie Wheeler\, Education Consultant\, Ed Surrogate \nHealth: Monica Ogelby\, Children with Special Health Needs Director\, Maternal and Child Health Division\, Vermont Department of Health and Dr. Jill Rinehart\, Pediatrician and Director of the Pediatric Residency Program at UVMMC \nDisability Law: Rachel Seelig\, Staff Attorney\, Disability Law Project\, Vermont Legal Aid \nRegister here. This event will be live captioned; use this link.  This Town Hall will be recorded and saved on the VFN website and YouTube channel. It will also be saved on the VCDR website. \n 
URL:https://www.vermontfamilynetwork.org/event/town-hall-back-to-school-for-k-12-students-in-vermont-with-disabilities-or-special-health-needs-9-18/
CATEGORIES:Past
END:VEVENT
END:VCALENDAR