BEGIN:VCALENDAR
VERSION:2.0
PRODID:-//Vermont Family Network - ECPv6.15.18//NONSGML v1.0//EN
CALSCALE:GREGORIAN
METHOD:PUBLISH
X-ORIGINAL-URL:https://www.vermontfamilynetwork.org
X-WR-CALDESC:Events for Vermont Family Network
REFRESH-INTERVAL;VALUE=DURATION:PT1H
X-Robots-Tag:noindex
X-PUBLISHED-TTL:PT1H
BEGIN:VTIMEZONE
TZID:America/New_York
BEGIN:DAYLIGHT
TZOFFSETFROM:-0500
TZOFFSETTO:-0400
TZNAME:EDT
DTSTART:20190310T070000
END:DAYLIGHT
BEGIN:STANDARD
TZOFFSETFROM:-0400
TZOFFSETTO:-0500
TZNAME:EST
DTSTART:20191103T060000
END:STANDARD
BEGIN:DAYLIGHT
TZOFFSETFROM:-0500
TZOFFSETTO:-0400
TZNAME:EDT
DTSTART:20200308T070000
END:DAYLIGHT
BEGIN:STANDARD
TZOFFSETFROM:-0400
TZOFFSETTO:-0500
TZNAME:EST
DTSTART:20201101T060000
END:STANDARD
BEGIN:DAYLIGHT
TZOFFSETFROM:-0500
TZOFFSETTO:-0400
TZNAME:EDT
DTSTART:20210314T070000
END:DAYLIGHT
BEGIN:STANDARD
TZOFFSETFROM:-0400
TZOFFSETTO:-0500
TZNAME:EST
DTSTART:20211107T060000
END:STANDARD
END:VTIMEZONE
BEGIN:VEVENT
DTSTART;TZID=America/New_York:20200314T130000
DTEND;TZID=America/New_York:20200314T153000
DTSTAMP:20260424T084024
CREATED:20190809T174354Z
LAST-MODIFIED:20200312T140618Z
UID:8101-1584190800-1584199800@www.vermontfamilynetwork.org
SUMMARY:Sibshop - Essex Junction - Cancelled
DESCRIPTION:** Cancelled ** \nMarch 14 – MetroRock Indoor Rock Climbing in Essex Junction from 1-3:30 pm \nSibs will have fun climbing and repelling at MetroRock Climbing Center. All experience levels are welcome! Safety\, of course\, is #1. Sibs should come in comfortable clothes and bring their own sneakers. Parents will need to sign a MetroRocks release form. \nFor questions or to RSVP\, please contact Molly.Lawney@vtfn.org or call (802) 876-5315 x216.
URL:https://www.vermontfamilynetwork.org/event/sibshop-essex-junction/
END:VEVENT
END:VCALENDAR