BEGIN:VCALENDAR
VERSION:2.0
PRODID:-//Vermont Family Network - ECPv6.15.18//NONSGML v1.0//EN
CALSCALE:GREGORIAN
METHOD:PUBLISH
X-WR-CALNAME:Vermont Family Network
X-ORIGINAL-URL:https://www.vermontfamilynetwork.org
X-WR-CALDESC:Events for Vermont Family Network
REFRESH-INTERVAL;VALUE=DURATION:PT1H
X-Robots-Tag:noindex
X-PUBLISHED-TTL:PT1H
BEGIN:VTIMEZONE
TZID:America/New_York
BEGIN:DAYLIGHT
TZOFFSETFROM:-0500
TZOFFSETTO:-0400
TZNAME:EDT
DTSTART:20180311T070000
END:DAYLIGHT
BEGIN:STANDARD
TZOFFSETFROM:-0400
TZOFFSETTO:-0500
TZNAME:EST
DTSTART:20181104T060000
END:STANDARD
BEGIN:DAYLIGHT
TZOFFSETFROM:-0500
TZOFFSETTO:-0400
TZNAME:EDT
DTSTART:20190310T070000
END:DAYLIGHT
BEGIN:STANDARD
TZOFFSETFROM:-0400
TZOFFSETTO:-0500
TZNAME:EST
DTSTART:20191103T060000
END:STANDARD
BEGIN:DAYLIGHT
TZOFFSETFROM:-0500
TZOFFSETTO:-0400
TZNAME:EDT
DTSTART:20200308T070000
END:DAYLIGHT
BEGIN:STANDARD
TZOFFSETFROM:-0400
TZOFFSETTO:-0500
TZNAME:EST
DTSTART:20201101T060000
END:STANDARD
END:VTIMEZONE
BEGIN:VEVENT
DTSTART;TZID=America/New_York:20191122T103000
DTEND;TZID=America/New_York:20191122T120000
DTSTAMP:20260423T222553
CREATED:20191101T170430Z
LAST-MODIFIED:20191120T191146Z
UID:8377-1574418600-1574424000@www.vermontfamilynetwork.org
SUMMARY:Webinar: Restraints and Seclusions in Vermont Schools: What Families Should Know
DESCRIPTION:Restraint and seclusion in Vermont schools are emergency interventions to be used only as a last resort and after less intrusive measures have already been used when a child’s behavior poses an imminent risk of substantial physical injury. This webinar is designed to discuss what is and is not permissible in terms of restraint and seclusion of students in Vermont Schools. The webinar is geared toward supporting families to advocate for their children and to understand what they can expect from schools if/when their children may be restrained or secluded. While professionals and family advocates are welcome to attend\, the webinar is designed specifically to meet the needs of family members. Presenter: Tracy Harris\, Coordinator of Behavioral Supports\, Vermont Agency of Education \nRegister Now: https://register.gotowebinar.com/register/1344714118478833421 \n 
URL:https://www.vermontfamilynetwork.org/event/webinar-restraints-and-seclusions-in-vermont-schools-what-families-should-know/
END:VEVENT
END:VCALENDAR