BEGIN:VCALENDAR
VERSION:2.0
PRODID:-//Vermont Family Network - ECPv6.15.18//NONSGML v1.0//EN
CALSCALE:GREGORIAN
METHOD:PUBLISH
X-WR-CALNAME:Vermont Family Network
X-ORIGINAL-URL:https://www.vermontfamilynetwork.org
X-WR-CALDESC:Events for Vermont Family Network
REFRESH-INTERVAL;VALUE=DURATION:PT1H
X-Robots-Tag:noindex
X-PUBLISHED-TTL:PT1H
BEGIN:VTIMEZONE
TZID:America/New_York
BEGIN:DAYLIGHT
TZOFFSETFROM:-0500
TZOFFSETTO:-0400
TZNAME:EDT
DTSTART:20180311T070000
END:DAYLIGHT
BEGIN:STANDARD
TZOFFSETFROM:-0400
TZOFFSETTO:-0500
TZNAME:EST
DTSTART:20181104T060000
END:STANDARD
BEGIN:DAYLIGHT
TZOFFSETFROM:-0500
TZOFFSETTO:-0400
TZNAME:EDT
DTSTART:20190310T070000
END:DAYLIGHT
BEGIN:STANDARD
TZOFFSETFROM:-0400
TZOFFSETTO:-0500
TZNAME:EST
DTSTART:20191103T060000
END:STANDARD
BEGIN:DAYLIGHT
TZOFFSETFROM:-0500
TZOFFSETTO:-0400
TZNAME:EDT
DTSTART:20200308T070000
END:DAYLIGHT
BEGIN:STANDARD
TZOFFSETFROM:-0400
TZOFFSETTO:-0500
TZNAME:EST
DTSTART:20201101T060000
END:STANDARD
END:VTIMEZONE
BEGIN:VEVENT
DTSTART;TZID=America/New_York:20191109T130000
DTEND;TZID=America/New_York:20191109T153000
DTSTAMP:20260425T120816
CREATED:20190809T172829Z
LAST-MODIFIED:20190809T172829Z
UID:8098-1573304400-1573313400@www.vermontfamilynetwork.org
SUMMARY:Sibshop - Burlington
DESCRIPTION:November 9 – Obstacle Course at Baird School\, 1138 Pine St. in Burlington from 1-3:30 pm \nDo you think you have what it takes to take on Sibshop’s Impossible Obstacle Course of Impossible Obstacles?! Our resident obstacle artist Molly begs to differ! Bring you’re A-game as we test the sibs ability to approach and tackle the literal and figurative obstacles in our lives. Theme is Flexibility. \nFor questions or to RSVP\, please contact Jamie Rainville or call (802) 876-5315 x243.
URL:https://www.vermontfamilynetwork.org/event/sibshop-burlington/
END:VEVENT
END:VCALENDAR